BEGIN:VCALENDAR
VERSION:2.0
PRODID:-//Overbrook Presbyterian Church - ECPv6.9.0//NONSGML v1.0//EN
CALSCALE:GREGORIAN
METHOD:PUBLISH
X-ORIGINAL-URL:https://overbrookchurch.org
X-WR-CALDESC:Events for Overbrook Presbyterian Church
REFRESH-INTERVAL;VALUE=DURATION:PT1H
X-Robots-Tag:noindex
X-PUBLISHED-TTL:PT1H
BEGIN:VTIMEZONE
TZID:America/New_York
BEGIN:DAYLIGHT
TZOFFSETFROM:-0500
TZOFFSETTO:-0400
TZNAME:EDT
DTSTART:20260308T070000
END:DAYLIGHT
BEGIN:STANDARD
TZOFFSETFROM:-0400
TZOFFSETTO:-0500
TZNAME:EST
DTSTART:20261101T060000
END:STANDARD
END:VTIMEZONE
BEGIN:VEVENT
DTSTART;TZID=America/New_York:20260301T000000
DTEND;TZID=America/New_York:20260301T235900
DTSTAMP:20260423T055242
CREATED:20260216T153534Z
LAST-MODIFIED:20260216T153534Z
UID:4746-1772323200-1772409540@overbrookchurch.org
SUMMARY:Food Sunday/Mission Sunday
DESCRIPTION:
URL:https://overbrookchurch.org/event/food-sunday-mission-sunday/
END:VEVENT
BEGIN:VEVENT
DTSTART;TZID=America/New_York:20260301T090000
DTEND;TZID=America/New_York:20260301T100000
DTSTAMP:20260423T055242
CREATED:20260216T153535Z
LAST-MODIFIED:20260216T153535Z
UID:4747-1772355600-1772359200@overbrookchurch.org
SUMMARY:Contemporary Worship Service
DESCRIPTION:
URL:https://overbrookchurch.org/event/contemporary-worship-service-100/
END:VEVENT
BEGIN:VEVENT
DTSTART;TZID=America/New_York:20260301T100000
DTEND;TZID=America/New_York:20260301T110000
DTSTAMP:20260423T055242
CREATED:20260216T153535Z
LAST-MODIFIED:20260216T153535Z
UID:4749-1772359200-1772362800@overbrookchurch.org
SUMMARY:Open Shelter Lunch Packing
DESCRIPTION:
URL:https://overbrookchurch.org/event/open-shelter-lunch-packing-31/
END:VEVENT
BEGIN:VEVENT
DTSTART;TZID=America/New_York:20260301T100000
DTEND;TZID=America/New_York:20260301T110000
DTSTAMP:20260423T055242
CREATED:20260216T153535Z
LAST-MODIFIED:20260216T153535Z
UID:4748-1772359200-1772362800@overbrookchurch.org
SUMMARY:Fellowship Hour
DESCRIPTION:
URL:https://overbrookchurch.org/event/fellowship-hour-95/
END:VEVENT
BEGIN:VEVENT
DTSTART;TZID=America/New_York:20260301T110000
DTEND;TZID=America/New_York:20260301T120000
DTSTAMP:20260423T055242
CREATED:20260216T153535Z
LAST-MODIFIED:20260216T153535Z
UID:4750-1772362800-1772366400@overbrookchurch.org
SUMMARY:Traditional Worship Service
DESCRIPTION:
URL:https://overbrookchurch.org/event/traditional-worship-service-88/
END:VEVENT
BEGIN:VEVENT
DTSTART;TZID=America/New_York:20260301T121500
DTEND;TZID=America/New_York:20260301T131500
DTSTAMP:20260423T055242
CREATED:20260216T153538Z
LAST-MODIFIED:20260216T153541Z
UID:4751-1772367300-1772370900@overbrookchurch.org
SUMMARY:Chancel Chimes
DESCRIPTION:
URL:https://overbrookchurch.org/event/chancel-chimes-46/
END:VEVENT
BEGIN:VEVENT
DTSTART;TZID=America/New_York:20260301T173000
DTEND;TZID=America/New_York:20260301T193000
DTSTAMP:20260423T055242
CREATED:20260216T153539Z
LAST-MODIFIED:20260216T153541Z
UID:4752-1772386200-1772393400@overbrookchurch.org
SUMMARY:Youth Fellowship
DESCRIPTION:
URL:https://overbrookchurch.org/event/youth-fellowship-58/
END:VEVENT
BEGIN:VEVENT
DTSTART;TZID=America/New_York:20260302T180000
DTEND;TZID=America/New_York:20260302T190000
DTSTAMP:20260423T055242
CREATED:20260216T153539Z
LAST-MODIFIED:20260216T153541Z
UID:4754-1772474400-1772478000@overbrookchurch.org
SUMMARY:Overbrook Belles
DESCRIPTION:
URL:https://overbrookchurch.org/event/overbrook-belles-24/
END:VEVENT
BEGIN:VEVENT
DTSTART;TZID=America/New_York:20260302T180000
DTEND;TZID=America/New_York:20260302T200000
DTSTAMP:20260423T055242
CREATED:20260216T153539Z
LAST-MODIFIED:20260216T153541Z
UID:4753-1772474400-1772481600@overbrookchurch.org
SUMMARY:Scouts
DESCRIPTION:
URL:https://overbrookchurch.org/event/scouts-68/
END:VEVENT
BEGIN:VEVENT
DTSTART;TZID=America/New_York:20260303T120000
DTEND;TZID=America/New_York:20260303T130000
DTSTAMP:20260423T055242
CREATED:20260216T153539Z
LAST-MODIFIED:20260216T153541Z
UID:4755-1772539200-1772542800@overbrookchurch.org
SUMMARY:Lenten Devotional Discussion
DESCRIPTION:
URL:https://overbrookchurch.org/event/lenten-devotional-discussion-2/
END:VEVENT
BEGIN:VEVENT
DTSTART;TZID=America/New_York:20260303T190000
DTEND;TZID=America/New_York:20260303T203000
DTSTAMP:20260423T055242
CREATED:20260216T153553Z
LAST-MODIFIED:20260216T153553Z
UID:4762-1772564400-1772569800@overbrookchurch.org
SUMMARY:John Beltz Retreat Center  Team
DESCRIPTION:
URL:https://overbrookchurch.org/event/john-beltz-retreat-center-team-27/
END:VEVENT
BEGIN:VEVENT
DTSTART;TZID=America/New_York:20260303T190000
DTEND;TZID=America/New_York:20260303T210000
DTSTAMP:20260423T055242
CREATED:20260216T153553Z
LAST-MODIFIED:20260216T153553Z
UID:4761-1772564400-1772571600@overbrookchurch.org
SUMMARY:Commission for Member Enrichment
DESCRIPTION:
URL:https://overbrookchurch.org/event/commission-for-member-enrichment-27/
END:VEVENT
BEGIN:VEVENT
DTSTART;TZID=America/New_York:20260304T093000
DTEND;TZID=America/New_York:20260304T110000
DTSTAMP:20260423T055242
CREATED:20260216T153553Z
LAST-MODIFIED:20260216T153553Z
UID:4763-1772616600-1772622000@overbrookchurch.org
SUMMARY:Mothersingers
DESCRIPTION:
URL:https://overbrookchurch.org/event/mothersingers-38/
END:VEVENT
BEGIN:VEVENT
DTSTART;TZID=America/New_York:20260304T100000
DTEND;TZID=America/New_York:20260304T110000
DTSTAMP:20260423T055242
CREATED:20260216T153553Z
LAST-MODIFIED:20260216T153553Z
UID:4764-1772618400-1772622000@overbrookchurch.org
SUMMARY:Staff Meeting
DESCRIPTION:
URL:https://overbrookchurch.org/event/staff-meeting-105/
END:VEVENT
BEGIN:VEVENT
DTSTART;TZID=America/New_York:20260304T183000
DTEND;TZID=America/New_York:20260304T203000
DTSTAMP:20260423T055242
CREATED:20260216T153554Z
LAST-MODIFIED:20260216T153554Z
UID:4765-1772649000-1772656200@overbrookchurch.org
SUMMARY:Social Justice Discussion Group
DESCRIPTION:
URL:https://overbrookchurch.org/event/social-justice-discussion-group-16/
END:VEVENT
BEGIN:VEVENT
DTSTART;TZID=America/New_York:20260305T183000
DTEND;TZID=America/New_York:20260305T203000
DTSTAMP:20260423T055242
CREATED:20260216T153608Z
LAST-MODIFIED:20260216T153608Z
UID:4766-1772735400-1772742600@overbrookchurch.org
SUMMARY:Whetstone Girl Scout Leaders
DESCRIPTION:
URL:https://overbrookchurch.org/event/whetstone-girl-scout-leaders-22/
END:VEVENT
BEGIN:VEVENT
DTSTART;TZID=America/New_York:20260305T193000
DTEND;TZID=America/New_York:20260305T203000
DTSTAMP:20260423T055242
CREATED:20260216T153608Z
LAST-MODIFIED:20260216T153608Z
UID:4767-1772739000-1772742600@overbrookchurch.org
SUMMARY:Chancel Choir
DESCRIPTION:
URL:https://overbrookchurch.org/event/chancel-choir-95/
END:VEVENT
BEGIN:VEVENT
DTSTART;TZID=America/New_York:20260307T090000
DTEND;TZID=America/New_York:20260307T110000
DTSTAMP:20260423T055242
CREATED:20260216T153609Z
LAST-MODIFIED:20260216T153609Z
UID:4769-1772874000-1772881200@overbrookchurch.org
SUMMARY:Alcoholics Anonymous HOW
DESCRIPTION:
URL:https://overbrookchurch.org/event/alcoholics-anonymous-how-149/
END:VEVENT
BEGIN:VEVENT
DTSTART;TZID=America/New_York:20260307T090000
DTEND;TZID=America/New_York:20260307T110000
DTSTAMP:20260423T055242
CREATED:20260216T153609Z
LAST-MODIFIED:20260216T153609Z
UID:4768-1772874000-1772881200@overbrookchurch.org
SUMMARY:Alcoholics Anonymous Early Bird
DESCRIPTION:
URL:https://overbrookchurch.org/event/alcoholics-anonymous-early-bird-154/
END:VEVENT
BEGIN:VEVENT
DTSTART;TZID=America/New_York:20260308T090000
DTEND;TZID=America/New_York:20260308T100000
DTSTAMP:20260423T055242
CREATED:20260216T153610Z
LAST-MODIFIED:20260216T153610Z
UID:4770-1772960400-1772964000@overbrookchurch.org
SUMMARY:Contemporary Worship Service
DESCRIPTION:
URL:https://overbrookchurch.org/event/contemporary-worship-service-101/
END:VEVENT
BEGIN:VEVENT
DTSTART;TZID=America/New_York:20260308T100000
DTEND;TZID=America/New_York:20260308T110000
DTSTAMP:20260423T055242
CREATED:20260216T153623Z
LAST-MODIFIED:20260216T153623Z
UID:4771-1772964000-1772967600@overbrookchurch.org
SUMMARY:Fellowship Hour
DESCRIPTION:
URL:https://overbrookchurch.org/event/fellowship-hour-96/
END:VEVENT
BEGIN:VEVENT
DTSTART;TZID=America/New_York:20260308T110000
DTEND;TZID=America/New_York:20260308T120000
DTSTAMP:20260423T055242
CREATED:20260216T153623Z
LAST-MODIFIED:20260216T153623Z
UID:4772-1772967600-1772971200@overbrookchurch.org
SUMMARY:Traditional Worship Service
DESCRIPTION:
URL:https://overbrookchurch.org/event/traditional-worship-service-89/
END:VEVENT
BEGIN:VEVENT
DTSTART;TZID=America/New_York:20260308T121500
DTEND;TZID=America/New_York:20260308T131500
DTSTAMP:20260423T055242
CREATED:20260216T153623Z
LAST-MODIFIED:20260216T153623Z
UID:4773-1772972100-1772975700@overbrookchurch.org
SUMMARY:Chancel Chimes
DESCRIPTION:
URL:https://overbrookchurch.org/event/chancel-chimes-47/
END:VEVENT
BEGIN:VEVENT
DTSTART;TZID=America/New_York:20260308T173000
DTEND;TZID=America/New_York:20260308T193000
DTSTAMP:20260423T055242
CREATED:20260216T153623Z
LAST-MODIFIED:20260216T153623Z
UID:4774-1772991000-1772998200@overbrookchurch.org
SUMMARY:Youth Fellowship
DESCRIPTION:
URL:https://overbrookchurch.org/event/youth-fellowship-59/
END:VEVENT
BEGIN:VEVENT
DTSTART;TZID=America/New_York:20260309T180000
DTEND;TZID=America/New_York:20260309T190000
DTSTAMP:20260423T055242
CREATED:20260216T153638Z
LAST-MODIFIED:20260216T153638Z
UID:4776-1773079200-1773082800@overbrookchurch.org
SUMMARY:Overbrook Belles
DESCRIPTION:
URL:https://overbrookchurch.org/event/overbrook-belles-25/
END:VEVENT
BEGIN:VEVENT
DTSTART;TZID=America/New_York:20260309T180000
DTEND;TZID=America/New_York:20260309T200000
DTSTAMP:20260423T055242
CREATED:20260216T153624Z
LAST-MODIFIED:20260216T153624Z
UID:4775-1773079200-1773086400@overbrookchurch.org
SUMMARY:Scouts
DESCRIPTION:
URL:https://overbrookchurch.org/event/scouts-69/
END:VEVENT
BEGIN:VEVENT
DTSTART;TZID=America/New_York:20260310T120000
DTEND;TZID=America/New_York:20260310T130000
DTSTAMP:20260423T055242
CREATED:20260216T153638Z
LAST-MODIFIED:20260216T153638Z
UID:4777-1773144000-1773147600@overbrookchurch.org
SUMMARY:Lenten Devotional Discussion
DESCRIPTION:
URL:https://overbrookchurch.org/event/lenten-devotional-discussion-3/
END:VEVENT
BEGIN:VEVENT
DTSTART;TZID=America/New_York:20260310T190000
DTEND;TZID=America/New_York:20260310T200000
DTSTAMP:20260423T055242
CREATED:20260216T153638Z
LAST-MODIFIED:20260216T153638Z
UID:4778-1773169200-1773172800@overbrookchurch.org
SUMMARY:Personnel Committee
DESCRIPTION:
URL:https://overbrookchurch.org/event/personnel-committee-27/
END:VEVENT
BEGIN:VEVENT
DTSTART;TZID=America/New_York:20260310T190000
DTEND;TZID=America/New_York:20260310T200000
DTSTAMP:20260423T055242
CREATED:20260216T153639Z
LAST-MODIFIED:20260216T153639Z
UID:4779-1773169200-1773172800@overbrookchurch.org
SUMMARY:Deacons
DESCRIPTION:
URL:https://overbrookchurch.org/event/deacons-27/
END:VEVENT
BEGIN:VEVENT
DTSTART;TZID=America/New_York:20260310T190000
DTEND;TZID=America/New_York:20260310T200000
DTSTAMP:20260423T055242
CREATED:20260216T153639Z
LAST-MODIFIED:20260216T153639Z
UID:4780-1773169200-1773172800@overbrookchurch.org
SUMMARY:Finance Committee
DESCRIPTION:
URL:https://overbrookchurch.org/event/finance-committee-27/
END:VEVENT
END:VCALENDAR