BEGIN:VCALENDAR
VERSION:2.0
PRODID:-//Overbrook Presbyterian Church - ECPv6.9.0//NONSGML v1.0//EN
CALSCALE:GREGORIAN
METHOD:PUBLISH
X-WR-CALNAME:Overbrook Presbyterian Church
X-ORIGINAL-URL:https://overbrookchurch.org
X-WR-CALDESC:Events for Overbrook Presbyterian Church
REFRESH-INTERVAL;VALUE=DURATION:PT1H
X-Robots-Tag:noindex
X-PUBLISHED-TTL:PT1H
BEGIN:VTIMEZONE
TZID:America/New_York
BEGIN:DAYLIGHT
TZOFFSETFROM:-0500
TZOFFSETTO:-0400
TZNAME:EDT
DTSTART:20240310T070000
END:DAYLIGHT
BEGIN:STANDARD
TZOFFSETFROM:-0400
TZOFFSETTO:-0500
TZNAME:EST
DTSTART:20241103T060000
END:STANDARD
END:VTIMEZONE
BEGIN:VEVENT
DTSTART;TZID=America/New_York:20240810T060000
DTEND;TZID=America/New_York:20240810T180000
DTSTAMP:20260423T205915
CREATED:20240604T151731Z
LAST-MODIFIED:20240604T201710Z
UID:1458-1723269600-1723312800@overbrookchurch.org
SUMMARY:Boy Scout Garage Sale
DESCRIPTION:Wondering what Cub Scouts is all about? Come check us out at this Saturday’s annual Scouts’ Mega Garage Sale & Craft Fair fund raiser at Overbrook! Overbrook’s Cub Scout Pack 74 will be selling concessions and members will be available to answer your questions and get you more information! Family scouting is a great opportunity for families with youth in grades K-5 to have fun together and make new friends!
URL:https://overbrookchurch.org/event/boy-scout-garage-sale/
CATEGORIES:Parking Lot - East|Parking Lot - West
END:VEVENT
BEGIN:VEVENT
DTSTART;TZID=America/New_York:20240809T000000
DTEND;TZID=America/New_York:20240809T235900
DTSTAMP:20260423T205915
CREATED:20240604T151730Z
LAST-MODIFIED:20240604T231428Z
UID:1457-1723161600-1723247940@overbrookchurch.org
SUMMARY:Set-Up for Boy Scout Garage Sale
DESCRIPTION:
URL:https://overbrookchurch.org/event/set-up-for-boy-scout-garage-sale-5/
CATEGORIES:Parking Lot - East|Parking Lot - West
END:VEVENT
BEGIN:VEVENT
DTSTART;TZID=America/New_York:20240808T000000
DTEND;TZID=America/New_York:20240808T235900
DTSTAMP:20260423T205915
CREATED:20240604T151730Z
LAST-MODIFIED:20240604T231227Z
UID:1455-1723075200-1723161540@overbrookchurch.org
SUMMARY:Set-Up for Boy Scout Garage Sale
DESCRIPTION:
URL:https://overbrookchurch.org/event/set-up-for-boy-scout-garage-sale-4/
CATEGORIES:Parking Lot - East|Parking Lot - West
END:VEVENT
BEGIN:VEVENT
DTSTART;TZID=America/New_York:20240807T000000
DTEND;TZID=America/New_York:20240807T235900
DTSTAMP:20260423T205915
CREATED:20240604T151723Z
LAST-MODIFIED:20240604T231227Z
UID:1448-1722988800-1723075140@overbrookchurch.org
SUMMARY:Set-Up for Boy Scout Garage Sale
DESCRIPTION:
URL:https://overbrookchurch.org/event/set-up-for-boy-scout-garage-sale-3/
CATEGORIES:Parking Lot - East|Parking Lot - West
END:VEVENT
BEGIN:VEVENT
DTSTART;TZID=America/New_York:20240806T000000
DTEND;TZID=America/New_York:20240806T235900
DTSTAMP:20260423T205915
CREATED:20240604T151722Z
LAST-MODIFIED:20240604T231227Z
UID:1445-1722902400-1722988740@overbrookchurch.org
SUMMARY:Set-Up for Boy Scout Garage Sale
DESCRIPTION:
URL:https://overbrookchurch.org/event/set-up-for-boy-scout-garage-sale-2/
CATEGORIES:Parking Lot - East|Parking Lot - West
END:VEVENT
BEGIN:VEVENT
DTSTART;TZID=America/New_York:20240805T000000
DTEND;TZID=America/New_York:20240805T235900
DTSTAMP:20260423T205915
CREATED:20240604T151713Z
LAST-MODIFIED:20240604T231227Z
UID:1443-1722816000-1722902340@overbrookchurch.org
SUMMARY:Set-Up for Boy Scout Garage Sale
DESCRIPTION:
URL:https://overbrookchurch.org/event/set-up-for-boy-scout-garage-sale/
CATEGORIES:Parking Lot - East|Parking Lot - West
END:VEVENT
BEGIN:VEVENT
DTSTART;TZID=America/New_York:20240804T180000
DTEND;TZID=America/New_York:20240804T220000
DTSTAMP:20260423T205915
CREATED:20240604T151713Z
LAST-MODIFIED:20240604T231428Z
UID:1442-1722794400-1722808800@overbrookchurch.org
SUMMARY:Set-Up for Boy Scouts Garage Sale
DESCRIPTION:
URL:https://overbrookchurch.org/event/set-up-for-boy-scouts-garage-sale/
CATEGORIES:Parking Lot - East|Parking Lot - West
END:VEVENT
BEGIN:VEVENT
DTSTART;TZID=America/New_York:20240704T160000
DTEND;TZID=America/New_York:20240704T200000
DTSTAMP:20260423T205915
CREATED:20240604T151521Z
LAST-MODIFIED:20240604T151522Z
UID:1336-1720108800-1720123200@overbrookchurch.org
SUMMARY:Yankee Doodle Picnic
DESCRIPTION:
URL:https://overbrookchurch.org/event/yankee-doodle-picnic/
CATEGORIES:Parking Lot - East|Parking Lot - West
END:VEVENT
BEGIN:VEVENT
DTSTART;TZID=America/New_York:20240525T060000
DTEND;TZID=America/New_York:20240525T150000
DTSTAMP:20260423T205915
CREATED:20240604T151239Z
LAST-MODIFIED:20240604T151239Z
UID:1230-1716616800-1716649200@overbrookchurch.org
SUMMARY:Wildones Native Plant Sale
DESCRIPTION:
URL:https://overbrookchurch.org/event/wildones-native-plant-sale/
CATEGORIES:Parking Lot - East|Parking Lot - West
END:VEVENT
BEGIN:VEVENT
DTSTART;TZID=America/New_York:20240510T140000
DTEND;TZID=America/New_York:20240510T180000
DTSTAMP:20260423T205915
CREATED:20240604T150602Z
LAST-MODIFIED:20240604T201624Z
UID:1191-1715349600-1715364000@overbrookchurch.org
SUMMARY:ALMC Flower Pick up
DESCRIPTION:
URL:https://overbrookchurch.org/event/almc-flower-pick-up/
CATEGORIES:Parking Lot - East|Parking Lot - West
END:VEVENT
BEGIN:VEVENT
DTSTART;TZID=America/New_York:20240504T090000
DTEND;TZID=America/New_York:20240504T160000
DTSTAMP:20260423T205915
CREATED:20240604T150017Z
LAST-MODIFIED:20240604T150017Z
UID:1170-1714813200-1714838400@overbrookchurch.org
SUMMARY:Whetstone High School Plant Pick Up
DESCRIPTION:
URL:https://overbrookchurch.org/event/whetstone-high-school-plant-pick-up/
CATEGORIES:Parking Lot - East|Parking Lot - West
END:VEVENT
END:VCALENDAR