BEGIN:VCALENDAR
VERSION:2.0
PRODID:-//Overbrook Presbyterian Church - ECPv6.9.0//NONSGML v1.0//EN
CALSCALE:GREGORIAN
METHOD:PUBLISH
X-WR-CALNAME:Overbrook Presbyterian Church
X-ORIGINAL-URL:https://overbrookchurch.org
X-WR-CALDESC:Events for Overbrook Presbyterian Church
REFRESH-INTERVAL;VALUE=DURATION:PT1H
X-Robots-Tag:noindex
X-PUBLISHED-TTL:PT1H
BEGIN:VTIMEZONE
TZID:America/New_York
BEGIN:DAYLIGHT
TZOFFSETFROM:-0500
TZOFFSETTO:-0400
TZNAME:EDT
DTSTART:20240310T070000
END:DAYLIGHT
BEGIN:STANDARD
TZOFFSETFROM:-0400
TZOFFSETTO:-0500
TZNAME:EST
DTSTART:20241103T060000
END:STANDARD
END:VTIMEZONE
BEGIN:VEVENT
DTSTART;TZID=America/New_York:20241020T090000
DTEND;TZID=America/New_York:20241020T100000
DTSTAMP:20260423T225123
CREATED:20240604T211554Z
LAST-MODIFIED:20240604T211554Z
UID:1925-1729414800-1729418400@overbrookchurch.org
SUMMARY:Contemporary Worship Service
DESCRIPTION:If you enjoy a casual worship environment\, this is the service for you. During the service\, we sing songs led by a worship band\, use video and other visual elements\, and worship in a more informal style in our large gathering room.
URL:https://overbrookchurch.org/event/contemporary-worship-service-41/
CATEGORIES:Great Room
END:VEVENT
BEGIN:VEVENT
DTSTART;TZID=America/New_York:20241018T190000
DTEND;TZID=America/New_York:20241018T220000
DTSTAMP:20260423T225123
CREATED:20240604T220215Z
LAST-MODIFIED:20240604T220215Z
UID:2036-1729278000-1729288800@overbrookchurch.org
SUMMARY:Hollywood Jesus
DESCRIPTION:On the 3rd Friday of each month between September and May\, we gather to watch a movie and discuss the theological insights we discovered as we watched. Snacks\, drinks\, and comfy chairs are
URL:https://overbrookchurch.org/event/hollywood-jesus-7/
CATEGORIES:Great Room
END:VEVENT
BEGIN:VEVENT
DTSTART;TZID=America/New_York:20241013T090000
DTEND;TZID=America/New_York:20241013T100000
DTSTAMP:20260423T225123
CREATED:20240604T152045Z
LAST-MODIFIED:20240604T211554Z
UID:1638-1728810000-1728813600@overbrookchurch.org
SUMMARY:Contemporary Worship Service
DESCRIPTION:If you enjoy a casual worship environment\, this is the service for you. During the service\, we sing songs led by a worship band\, use video and other visual elements\, and worship in a more informal style in our large gathering room.
URL:https://overbrookchurch.org/event/contemporary-worship-service-40/
CATEGORIES:Great Room
END:VEVENT
BEGIN:VEVENT
DTSTART;TZID=America/New_York:20241008T190000
DTEND;TZID=America/New_York:20241008T200000
DTSTAMP:20260423T225123
CREATED:20240604T152009Z
LAST-MODIFIED:20240604T230142Z
UID:1626-1728414000-1728417600@overbrookchurch.org
SUMMARY:Personnel Committee
DESCRIPTION:
URL:https://overbrookchurch.org/event/personnel-committee-10/
CATEGORIES:Great Room
END:VEVENT
BEGIN:VEVENT
DTSTART;TZID=America/New_York:20241006T090000
DTEND;TZID=America/New_York:20241006T100000
DTSTAMP:20260423T225123
CREATED:20240604T152005Z
LAST-MODIFIED:20240604T211554Z
UID:1615-1728205200-1728208800@overbrookchurch.org
SUMMARY:Contemporary Worship Service
DESCRIPTION:If you enjoy a casual worship environment\, this is the service for you. During the service\, we sing songs led by a worship band\, use video and other visual elements\, and worship in a more informal style in our large gathering room.
URL:https://overbrookchurch.org/event/contemporary-worship-service-39/
CATEGORIES:Great Room
END:VEVENT
BEGIN:VEVENT
DTSTART;TZID=America/New_York:20240929T090000
DTEND;TZID=America/New_York:20240929T100000
DTSTAMP:20260423T225123
CREATED:20240604T151941Z
LAST-MODIFIED:20240604T211352Z
UID:1594-1727600400-1727604000@overbrookchurch.org
SUMMARY:Contemporary Worship Service
DESCRIPTION:If you enjoy a casual worship environment\, this is the service for you. During the service\, we sing songs led by a worship band\, use video and other visual elements\, and worship in a more informal style in our large gathering room.
URL:https://overbrookchurch.org/event/contemporary-worship-service-38/
CATEGORIES:Great Room
END:VEVENT
BEGIN:VEVENT
DTSTART;TZID=America/New_York:20240922T090000
DTEND;TZID=America/New_York:20240922T100000
DTSTAMP:20260423T225123
CREATED:20240604T151929Z
LAST-MODIFIED:20240604T211352Z
UID:1579-1726995600-1726999200@overbrookchurch.org
SUMMARY:Contemporary Worship Service
DESCRIPTION:If you enjoy a casual worship environment\, this is the service for you. During the service\, we sing songs led by a worship band\, use video and other visual elements\, and worship in a more informal style in our large gathering room.
URL:https://overbrookchurch.org/event/contemporary-worship-service-37/
CATEGORIES:Great Room
END:VEVENT
BEGIN:VEVENT
DTSTART;TZID=America/New_York:20240920T190000
DTEND;TZID=America/New_York:20240920T223000
DTSTAMP:20260423T225123
CREATED:20240604T151928Z
LAST-MODIFIED:20240604T220215Z
UID:1575-1726858800-1726871400@overbrookchurch.org
SUMMARY:Hollywood Jesus
DESCRIPTION:On the 3rd Friday of each month between September and May\, we gather to watch a movie and discuss the theological insights we discovered as we watched. Snacks\, drinks\, and comfy chairs are
URL:https://overbrookchurch.org/event/hollywood-jesus-6/
CATEGORIES:Great Room
END:VEVENT
BEGIN:VEVENT
DTSTART;TZID=America/New_York:20240915T090000
DTEND;TZID=America/New_York:20240915T100000
DTSTAMP:20260423T225123
CREATED:20240604T151916Z
LAST-MODIFIED:20240604T211352Z
UID:1565-1726390800-1726394400@overbrookchurch.org
SUMMARY:Contemporary Worship Service
DESCRIPTION:If you enjoy a casual worship environment\, this is the service for you. During the service\, we sing songs led by a worship band\, use video and other visual elements\, and worship in a more informal style in our large gathering room.
URL:https://overbrookchurch.org/event/contemporary-worship-service-36/
CATEGORIES:Great Room
END:VEVENT
BEGIN:VEVENT
DTSTART;TZID=America/New_York:20240910T190000
DTEND;TZID=America/New_York:20240910T200000
DTSTAMP:20260423T225123
CREATED:20240604T151900Z
LAST-MODIFIED:20240604T230142Z
UID:1549-1725994800-1725998400@overbrookchurch.org
SUMMARY:Personnel Committee
DESCRIPTION:
URL:https://overbrookchurch.org/event/personnel-committee-9/
CATEGORIES:Great Room
END:VEVENT
BEGIN:VEVENT
DTSTART;TZID=America/New_York:20240908T090000
DTEND;TZID=America/New_York:20240908T100000
DTSTAMP:20260423T225123
CREATED:20240604T151859Z
LAST-MODIFIED:20240604T211352Z
UID:1545-1725786000-1725789600@overbrookchurch.org
SUMMARY:Contemporary Worship Service
DESCRIPTION:If you enjoy a casual worship environment\, this is the service for you. During the service\, we sing songs led by a worship band\, use video and other visual elements\, and worship in a more informal style in our large gathering room.
URL:https://overbrookchurch.org/event/contemporary-worship-service-35/
CATEGORIES:Great Room
END:VEVENT
BEGIN:VEVENT
DTSTART;TZID=America/New_York:20240901T090000
DTEND;TZID=America/New_York:20240901T100000
DTSTAMP:20260423T225123
CREATED:20240604T151842Z
LAST-MODIFIED:20240604T211352Z
UID:1522-1725181200-1725184800@overbrookchurch.org
SUMMARY:Contemporary Worship Service
DESCRIPTION:If you enjoy a casual worship environment\, this is the service for you. During the service\, we sing songs led by a worship band\, use video and other visual elements\, and worship in a more informal style in our large gathering room.
URL:https://overbrookchurch.org/event/contemporary-worship-service-34/
CATEGORIES:Great Room
END:VEVENT
BEGIN:VEVENT
DTSTART;TZID=America/New_York:20240825T090000
DTEND;TZID=America/New_York:20240825T100000
DTSTAMP:20260423T225123
CREATED:20240604T151830Z
LAST-MODIFIED:20240604T211150Z
UID:1506-1724576400-1724580000@overbrookchurch.org
SUMMARY:Contemporary Worship Service
DESCRIPTION:If you enjoy a casual worship environment\, this is the service for you. During the service\, we sing songs led by a worship band\, use video and other visual elements\, and worship in a more informal style in our large gathering room.
URL:https://overbrookchurch.org/event/contemporary-worship-service-33/
CATEGORIES:Great Room
END:VEVENT
BEGIN:VEVENT
DTSTART;TZID=America/New_York:20240818T090000
DTEND;TZID=America/New_York:20240818T100000
DTSTAMP:20260423T225123
CREATED:20240604T151806Z
LAST-MODIFIED:20240604T211953Z
UID:1489-1723971600-1723975200@overbrookchurch.org
SUMMARY:Contemporary Worship Service - Blessing of the Backpacks
DESCRIPTION:
URL:https://overbrookchurch.org/event/contemporary-worship-service-blessing-of-the-backpacks/
CATEGORIES:Great Room
END:VEVENT
BEGIN:VEVENT
DTSTART;TZID=America/New_York:20240813T190000
DTEND;TZID=America/New_York:20240813T200000
DTSTAMP:20260423T225123
CREATED:20240604T151748Z
LAST-MODIFIED:20240604T230135Z
UID:1471-1723575600-1723579200@overbrookchurch.org
SUMMARY:Personnel Committee
DESCRIPTION:
URL:https://overbrookchurch.org/event/personnel-committee-8/
CATEGORIES:Great Room
END:VEVENT
BEGIN:VEVENT
DTSTART;TZID=America/New_York:20240811T090000
DTEND;TZID=America/New_York:20240811T100000
DTSTAMP:20260423T225123
CREATED:20240604T151741Z
LAST-MODIFIED:20240604T211150Z
UID:1462-1723366800-1723370400@overbrookchurch.org
SUMMARY:Contemporary Worship Service
DESCRIPTION:If you enjoy a casual worship environment\, this is the service for you. During the service\, we sing songs led by a worship band\, use video and other visual elements\, and worship in a more informal style in our large gathering room.
URL:https://overbrookchurch.org/event/contemporary-worship-service-32/
CATEGORIES:Great Room
END:VEVENT
BEGIN:VEVENT
DTSTART;TZID=America/New_York:20240804T090000
DTEND;TZID=America/New_York:20240804T100000
DTSTAMP:20260423T225123
CREATED:20240604T151705Z
LAST-MODIFIED:20240604T211150Z
UID:1433-1722762000-1722765600@overbrookchurch.org
SUMMARY:Contemporary Worship Service
DESCRIPTION:If you enjoy a casual worship environment\, this is the service for you. During the service\, we sing songs led by a worship band\, use video and other visual elements\, and worship in a more informal style in our large gathering room.
URL:https://overbrookchurch.org/event/contemporary-worship-service-31/
CATEGORIES:Great Room
END:VEVENT
BEGIN:VEVENT
DTSTART;TZID=America/New_York:20240728T090000
DTEND;TZID=America/New_York:20240728T100000
DTSTAMP:20260423T225123
CREATED:20240604T151639Z
LAST-MODIFIED:20240604T211150Z
UID:1409-1722157200-1722160800@overbrookchurch.org
SUMMARY:Contemporary Worship Service
DESCRIPTION:If you enjoy a casual worship environment\, this is the service for you. During the service\, we sing songs led by a worship band\, use video and other visual elements\, and worship in a more informal style in our large gathering room.
URL:https://overbrookchurch.org/event/contemporary-worship-service-30/
CATEGORIES:Great Room
END:VEVENT
BEGIN:VEVENT
DTSTART;TZID=America/New_York:20240721T090000
DTEND;TZID=America/New_York:20240721T100000
DTSTAMP:20260423T225123
CREATED:20240604T151621Z
LAST-MODIFIED:20240604T211150Z
UID:1392-1721552400-1721556000@overbrookchurch.org
SUMMARY:Contemporary Worship Service
DESCRIPTION:If you enjoy a casual worship environment\, this is the service for you. During the service\, we sing songs led by a worship band\, use video and other visual elements\, and worship in a more informal style in our large gathering room.
URL:https://overbrookchurch.org/event/contemporary-worship-service-29/
CATEGORIES:Great Room
END:VEVENT
BEGIN:VEVENT
DTSTART;TZID=America/New_York:20240714T090000
DTEND;TZID=America/New_York:20240714T100000
DTSTAMP:20260423T225123
CREATED:20240604T151556Z
LAST-MODIFIED:20240604T210949Z
UID:1368-1720947600-1720951200@overbrookchurch.org
SUMMARY:Contemporary Worship Service
DESCRIPTION:If you enjoy a casual worship environment\, this is the service for you. During the service\, we sing songs led by a worship band\, use video and other visual elements\, and worship in a more informal style in our large gathering room.
URL:https://overbrookchurch.org/event/contemporary-worship-service-28/
CATEGORIES:Great Room
END:VEVENT
BEGIN:VEVENT
DTSTART;TZID=America/New_York:20240709T190000
DTEND;TZID=America/New_York:20240709T200000
DTSTAMP:20260423T225123
CREATED:20240604T151538Z
LAST-MODIFIED:20240604T230135Z
UID:1352-1720551600-1720555200@overbrookchurch.org
SUMMARY:Personnel Committee
DESCRIPTION:
URL:https://overbrookchurch.org/event/personnel-committee-7/
CATEGORIES:Great Room
END:VEVENT
BEGIN:VEVENT
DTSTART;TZID=America/New_York:20240707T090000
DTEND;TZID=America/New_York:20240707T100000
DTSTAMP:20260423T225123
CREATED:20240604T151530Z
LAST-MODIFIED:20240604T210949Z
UID:1346-1720342800-1720346400@overbrookchurch.org
SUMMARY:Contemporary Worship Service
DESCRIPTION:If you enjoy a casual worship environment\, this is the service for you. During the service\, we sing songs led by a worship band\, use video and other visual elements\, and worship in a more informal style in our large gathering room.
URL:https://overbrookchurch.org/event/contemporary-worship-service-27/
CATEGORIES:Great Room
END:VEVENT
BEGIN:VEVENT
DTSTART;TZID=America/New_York:20240630T090000
DTEND;TZID=America/New_York:20240630T100000
DTSTAMP:20260423T225123
CREATED:20240604T151504Z
LAST-MODIFIED:20240604T210949Z
UID:1322-1719738000-1719741600@overbrookchurch.org
SUMMARY:Contemporary Worship Service
DESCRIPTION:If you enjoy a casual worship environment\, this is the service for you. During the service\, we sing songs led by a worship band\, use video and other visual elements\, and worship in a more informal style in our large gathering room.
URL:https://overbrookchurch.org/event/contemporary-worship-service-26/
CATEGORIES:Great Room
END:VEVENT
BEGIN:VEVENT
DTSTART;TZID=America/New_York:20240623T090000
DTEND;TZID=America/New_York:20240623T100000
DTSTAMP:20260423T225123
CREATED:20240604T151447Z
LAST-MODIFIED:20240604T210949Z
UID:1307-1719133200-1719136800@overbrookchurch.org
SUMMARY:Contemporary Worship Service
DESCRIPTION:If you enjoy a casual worship environment\, this is the service for you. During the service\, we sing songs led by a worship band\, use video and other visual elements\, and worship in a more informal style in our large gathering room.
URL:https://overbrookchurch.org/event/contemporary-worship-service-25/
CATEGORIES:Great Room
END:VEVENT
BEGIN:VEVENT
DTSTART;TZID=America/New_York:20240616T090000
DTEND;TZID=America/New_York:20240616T100000
DTSTAMP:20260423T225123
CREATED:20240604T151422Z
LAST-MODIFIED:20240604T210949Z
UID:1283-1718528400-1718532000@overbrookchurch.org
SUMMARY:Contemporary Worship Service
DESCRIPTION:If you enjoy a casual worship environment\, this is the service for you. During the service\, we sing songs led by a worship band\, use video and other visual elements\, and worship in a more informal style in our large gathering room.
URL:https://overbrookchurch.org/event/contemporary-worship-service-24/
CATEGORIES:Great Room
END:VEVENT
BEGIN:VEVENT
DTSTART;TZID=America/New_York:20240611T190000
DTEND;TZID=America/New_York:20240611T200000
DTSTAMP:20260423T225123
CREATED:20240604T151404Z
LAST-MODIFIED:20240604T230135Z
UID:1270-1718132400-1718136000@overbrookchurch.org
SUMMARY:Personnel Committee
DESCRIPTION:
URL:https://overbrookchurch.org/event/personnel-committee-6/
CATEGORIES:Great Room
END:VEVENT
BEGIN:VEVENT
DTSTART;TZID=America/New_York:20240609T090000
DTEND;TZID=America/New_York:20240609T100000
DTSTAMP:20260423T225123
CREATED:20240604T151356Z
LAST-MODIFIED:20240604T210749Z
UID:1266-1717923600-1717927200@overbrookchurch.org
SUMMARY:Contemporary Worship Service
DESCRIPTION:If you enjoy a casual worship environment\, this is the service for you. During the service\, we sing songs led by a worship band\, use video and other visual elements\, and worship in a more informal style in our large gathering room.
URL:https://overbrookchurch.org/event/contemporary-worship-service-23/
CATEGORIES:Great Room
END:VEVENT
BEGIN:VEVENT
DTSTART;TZID=America/New_York:20240602T090000
DTEND;TZID=America/New_York:20240602T100000
DTSTAMP:20260423T225123
CREATED:20240604T151330Z
LAST-MODIFIED:20240604T210748Z
UID:1250-1717318800-1717322400@overbrookchurch.org
SUMMARY:Contemporary Worship Service
DESCRIPTION:If you enjoy a casual worship environment\, this is the service for you. During the service\, we sing songs led by a worship band\, use video and other visual elements\, and worship in a more informal style in our large gathering room.
URL:https://overbrookchurch.org/event/contemporary-worship-service-22/
CATEGORIES:Great Room
END:VEVENT
BEGIN:VEVENT
DTSTART;TZID=America/New_York:20240530T090000
DTEND;TZID=America/New_York:20240530T120000
DTSTAMP:20260423T225123
CREATED:20240604T151305Z
LAST-MODIFIED:20240604T230202Z
UID:1244-1717059600-1717070400@overbrookchurch.org
SUMMARY:Presbytery Seminar
DESCRIPTION:
URL:https://overbrookchurch.org/event/presbytery-seminar-2/
CATEGORIES:Great Room
END:VEVENT
BEGIN:VEVENT
DTSTART;TZID=America/New_York:20240526T090000
DTEND;TZID=America/New_York:20240526T100000
DTSTAMP:20260423T225123
CREATED:20240604T151240Z
LAST-MODIFIED:20240604T210748Z
UID:1234-1716714000-1716717600@overbrookchurch.org
SUMMARY:Contemporary Worship Service
DESCRIPTION:If you enjoy a casual worship environment\, this is the service for you. During the service\, we sing songs led by a worship band\, use video and other visual elements\, and worship in a more informal style in our large gathering room.
URL:https://overbrookchurch.org/event/contemporary-worship-service-21/
CATEGORIES:Great Room
END:VEVENT
END:VCALENDAR