BEGIN:VCALENDAR
VERSION:2.0
PRODID:-//Overbrook Presbyterian Church - ECPv6.9.0//NONSGML v1.0//EN
CALSCALE:GREGORIAN
METHOD:PUBLISH
X-WR-CALNAME:Overbrook Presbyterian Church
X-ORIGINAL-URL:https://overbrookchurch.org
X-WR-CALDESC:Events for Overbrook Presbyterian Church
REFRESH-INTERVAL;VALUE=DURATION:PT1H
X-Robots-Tag:noindex
X-PUBLISHED-TTL:PT1H
BEGIN:VTIMEZONE
TZID:America/New_York
BEGIN:DAYLIGHT
TZOFFSETFROM:-0500
TZOFFSETTO:-0400
TZNAME:EDT
DTSTART:20240310T070000
END:DAYLIGHT
BEGIN:STANDARD
TZOFFSETFROM:-0400
TZOFFSETTO:-0500
TZNAME:EST
DTSTART:20241103T060000
END:STANDARD
BEGIN:DAYLIGHT
TZOFFSETFROM:-0500
TZOFFSETTO:-0400
TZNAME:EDT
DTSTART:20250309T070000
END:DAYLIGHT
BEGIN:STANDARD
TZOFFSETFROM:-0400
TZOFFSETTO:-0500
TZNAME:EST
DTSTART:20251102T060000
END:STANDARD
END:VTIMEZONE
BEGIN:VEVENT
DTSTART;TZID=America/New_York:20250129T093000
DTEND;TZID=America/New_York:20250129T110000
DTSTAMP:20260423T190848
CREATED:20241204T014436Z
LAST-MODIFIED:20241204T014436Z
UID:3231-1738143000-1738148400@overbrookchurch.org
SUMMARY:Mothersingers
DESCRIPTION:
URL:https://overbrookchurch.org/event/mothersingers-3/
CATEGORIES:Great Room
END:VEVENT
BEGIN:VEVENT
DTSTART;TZID=America/New_York:20250126T090000
DTEND;TZID=America/New_York:20250126T100000
DTSTAMP:20260423T190848
CREATED:20241204T014048Z
LAST-MODIFIED:20241204T014048Z
UID:3221-1737882000-1737885600@overbrookchurch.org
SUMMARY:Contemporary Worship Service
DESCRIPTION:
URL:https://overbrookchurch.org/event/contemporary-worship-service-54/
CATEGORIES:Great Room
END:VEVENT
BEGIN:VEVENT
DTSTART;TZID=America/New_York:20250122T093000
DTEND;TZID=America/New_York:20250122T110000
DTSTAMP:20260423T190848
CREATED:20241204T013903Z
LAST-MODIFIED:20241204T013903Z
UID:3216-1737538200-1737543600@overbrookchurch.org
SUMMARY:Mothersingers
DESCRIPTION:
URL:https://overbrookchurch.org/event/mothersingers-2/
CATEGORIES:Great Room
END:VEVENT
BEGIN:VEVENT
DTSTART;TZID=America/New_York:20250119T150000
DTEND;TZID=America/New_York:20250119T170000
DTSTAMP:20260423T190848
CREATED:20241204T013735Z
LAST-MODIFIED:20250103T200838Z
UID:3209-1737298800-1737306000@overbrookchurch.org
SUMMARY:Frozen Sing Along
DESCRIPTION:This is a family event. \nPizza\, popcorn\, snacks\, and lots of singing! \nBring a blanket or chair\, your singing voice\, and get ready to LET IT GO! \nRSVP’s to the church office at office@overbrookchurch.org or call 614-261-1040. \n 
URL:https://overbrookchurch.org/event/frozen-sing-along/
CATEGORIES:Great Room
END:VEVENT
BEGIN:VEVENT
DTSTART;TZID=America/New_York:20250119T090000
DTEND;TZID=America/New_York:20250119T100000
DTSTAMP:20260423T190848
CREATED:20241204T013718Z
LAST-MODIFIED:20241204T013718Z
UID:3203-1737277200-1737280800@overbrookchurch.org
SUMMARY:Contemporary Worship Service
DESCRIPTION:
URL:https://overbrookchurch.org/event/contemporary-worship-service-53/
CATEGORIES:Great Room
END:VEVENT
BEGIN:VEVENT
DTSTART;TZID=America/New_York:20250117T000000
DTEND;TZID=America/New_York:20250117T235900
DTSTAMP:20260423T190848
CREATED:20241204T013543Z
LAST-MODIFIED:20250103T201001Z
UID:3199-1737072000-1737158340@overbrookchurch.org
SUMMARY:Hollywood Jesus
DESCRIPTION:Movie will be Wicked. \nPre-movie snacks will be served at 7:00 pm with the movie set to begin at 7:20 pm. There will be a brief discussion of the theological and moral-ethical themes of the film immediately following. \nMovie snacks\, light hors d’oeuvres\, desserts\, drinks\, and comfy chairs will be provided. \nFriends neighbors\, and dates are always welcome! \n  \n 
URL:https://overbrookchurch.org/event/hollywood-jesus-10/
CATEGORIES:Great Room
END:VEVENT
BEGIN:VEVENT
DTSTART;TZID=America/New_York:20250115T093000
DTEND;TZID=America/New_York:20250115T110000
DTSTAMP:20260423T190848
CREATED:20241204T013445Z
LAST-MODIFIED:20241204T013445Z
UID:3196-1736933400-1736938800@overbrookchurch.org
SUMMARY:Mothersingers
DESCRIPTION:
URL:https://overbrookchurch.org/event/mothersingers/
CATEGORIES:Great Room
END:VEVENT
BEGIN:VEVENT
DTSTART;TZID=America/New_York:20250114T190000
DTEND;TZID=America/New_York:20250114T200000
DTSTAMP:20260423T190848
CREATED:20241204T013429Z
LAST-MODIFIED:20241204T013429Z
UID:3190-1736881200-1736884800@overbrookchurch.org
SUMMARY:Personnel Committee
DESCRIPTION:
URL:https://overbrookchurch.org/event/personnel-committee-13/
CATEGORIES:Great Room
END:VEVENT
BEGIN:VEVENT
DTSTART;TZID=America/New_York:20250112T150000
DTEND;TZID=America/New_York:20250112T170000
DTSTAMP:20260423T190848
CREATED:20241204T013347Z
LAST-MODIFIED:20250103T201715Z
UID:3186-1736694000-1736701200@overbrookchurch.org
SUMMARY:A Musical Offering
DESCRIPTION:The first program will feature the Jake Reed Jazz Trio and the Overbrook String Quartet focused on the music of George Gershwin. \nThe programs will be designed to provide space for rest and renewal through the power of music. \nAll concerts will be free and open to the public. \n 
URL:https://overbrookchurch.org/event/a-musical-offering/
CATEGORIES:Great Room
END:VEVENT
BEGIN:VEVENT
DTSTART;TZID=America/New_York:20250112T090000
DTEND;TZID=America/New_York:20250112T100000
DTSTAMP:20260423T190848
CREATED:20241204T013331Z
LAST-MODIFIED:20241204T013331Z
UID:3180-1736672400-1736676000@overbrookchurch.org
SUMMARY:Contemporary Worship Service
DESCRIPTION:
URL:https://overbrookchurch.org/event/contemporary-worship-service-52/
CATEGORIES:Great Room
END:VEVENT
BEGIN:VEVENT
DTSTART;TZID=America/New_York:20250105T090000
DTEND;TZID=America/New_York:20250105T100000
DTSTAMP:20260423T190848
CREATED:20241204T013248Z
LAST-MODIFIED:20241204T013248Z
UID:3166-1736067600-1736071200@overbrookchurch.org
SUMMARY:Contemporary Worship Service
DESCRIPTION:
URL:https://overbrookchurch.org/event/contemporary-worship-service-51/
CATEGORIES:Great Room
END:VEVENT
BEGIN:VEVENT
DTSTART;TZID=America/New_York:20241222T090000
DTEND;TZID=America/New_York:20241222T100000
DTSTAMP:20260423T190848
CREATED:20240604T211953Z
LAST-MODIFIED:20240604T211953Z
UID:1933-1734858000-1734861600@overbrookchurch.org
SUMMARY:Contemporary Worship Service
DESCRIPTION:If you enjoy a casual worship environment\, this is the service for you. During the service\, we sing songs led by a worship band\, use video and other visual elements\, and worship in a more informal style in our large gathering room.
URL:https://overbrookchurch.org/event/contemporary-worship-service-49/
CATEGORIES:Great Room
END:VEVENT
BEGIN:VEVENT
DTSTART;TZID=America/New_York:20241215T090000
DTEND;TZID=America/New_York:20241215T100000
DTSTAMP:20260423T190848
CREATED:20240604T211953Z
LAST-MODIFIED:20240604T211953Z
UID:1936-1734253200-1734256800@overbrookchurch.org
SUMMARY:Contemporary Worship Service - Special Music Sunday
DESCRIPTION:
URL:https://overbrookchurch.org/event/contemporary-worship-service-special-music-sunday/
CATEGORIES:Great Room
END:VEVENT
BEGIN:VEVENT
DTSTART;TZID=America/New_York:20241211T190000
DTEND;TZID=America/New_York:20241211T200000
DTSTAMP:20260423T190848
CREATED:20241204T013225Z
LAST-MODIFIED:20241204T015202Z
UID:3152-1733943600-1733947200@overbrookchurch.org
SUMMARY:Blue Christmas Worship
DESCRIPTION:
URL:https://overbrookchurch.org/event/blue-christmas-worship/
CATEGORIES:Great Room
END:VEVENT
BEGIN:VEVENT
DTSTART;TZID=America/New_York:20241210T190000
DTEND;TZID=America/New_York:20241210T200000
DTSTAMP:20260423T190848
CREATED:20240604T230142Z
LAST-MODIFIED:20240604T230142Z
UID:2223-1733857200-1733860800@overbrookchurch.org
SUMMARY:Personnel Committee
DESCRIPTION:
URL:https://overbrookchurch.org/event/personnel-committee-12/
CATEGORIES:Great Room
END:VEVENT
BEGIN:VEVENT
DTSTART;TZID=America/New_York:20241208T090000
DTEND;TZID=America/New_York:20241208T100000
DTSTAMP:20260423T190848
CREATED:20240604T211753Z
LAST-MODIFIED:20240604T211753Z
UID:1932-1733648400-1733652000@overbrookchurch.org
SUMMARY:Contemporary Worship Service
DESCRIPTION:If you enjoy a casual worship environment\, this is the service for you. During the service\, we sing songs led by a worship band\, use video and other visual elements\, and worship in a more informal style in our large gathering room.
URL:https://overbrookchurch.org/event/contemporary-worship-service-48/
CATEGORIES:Great Room
END:VEVENT
BEGIN:VEVENT
DTSTART;TZID=America/New_York:20241201T090000
DTEND;TZID=America/New_York:20241201T100000
DTSTAMP:20260423T190848
CREATED:20240604T211753Z
LAST-MODIFIED:20240604T211753Z
UID:1931-1733043600-1733047200@overbrookchurch.org
SUMMARY:Contemporary Worship Service
DESCRIPTION:If you enjoy a casual worship environment\, this is the service for you. During the service\, we sing songs led by a worship band\, use video and other visual elements\, and worship in a more informal style in our large gathering room.
URL:https://overbrookchurch.org/event/contemporary-worship-service-47/
CATEGORIES:Great Room
END:VEVENT
BEGIN:VEVENT
DTSTART;TZID=America/New_York:20241124T090000
DTEND;TZID=America/New_York:20241124T100000
DTSTAMP:20260423T190848
CREATED:20240604T211753Z
LAST-MODIFIED:20240604T211753Z
UID:1930-1732438800-1732442400@overbrookchurch.org
SUMMARY:Contemporary Worship Service
DESCRIPTION:If you enjoy a casual worship environment\, this is the service for you. During the service\, we sing songs led by a worship band\, use video and other visual elements\, and worship in a more informal style in our large gathering room.
URL:https://overbrookchurch.org/event/contemporary-worship-service-46/
CATEGORIES:Great Room
END:VEVENT
BEGIN:VEVENT
DTSTART;TZID=America/New_York:20241117T090000
DTEND;TZID=America/New_York:20241117T100000
DTSTAMP:20260423T190848
CREATED:20240604T211753Z
LAST-MODIFIED:20240604T211753Z
UID:1929-1731834000-1731837600@overbrookchurch.org
SUMMARY:Contemporary Worship Service
DESCRIPTION:If you enjoy a casual worship environment\, this is the service for you. During the service\, we sing songs led by a worship band\, use video and other visual elements\, and worship in a more informal style in our large gathering room.
URL:https://overbrookchurch.org/event/contemporary-worship-service-45/
CATEGORIES:Great Room
END:VEVENT
BEGIN:VEVENT
DTSTART;TZID=America/New_York:20241115T190000
DTEND;TZID=America/New_York:20241115T223000
DTSTAMP:20260423T190848
CREATED:20240604T220215Z
LAST-MODIFIED:20240604T220215Z
UID:2037-1731697200-1731709800@overbrookchurch.org
SUMMARY:Hollywood Jesus
DESCRIPTION:On the 3rd Friday of each month between September and May\, we gather to watch a movie and discuss the theological insights we discovered as we watched. Snacks\, drinks\, and comfy chairs are
URL:https://overbrookchurch.org/event/hollywood-jesus-8/
CATEGORIES:Great Room
END:VEVENT
BEGIN:VEVENT
DTSTART;TZID=America/New_York:20241112T190000
DTEND;TZID=America/New_York:20241112T200000
DTSTAMP:20260423T190848
CREATED:20240604T230142Z
LAST-MODIFIED:20240604T230142Z
UID:2222-1731438000-1731441600@overbrookchurch.org
SUMMARY:Personnel Committee
DESCRIPTION:
URL:https://overbrookchurch.org/event/personnel-committee-11/
CATEGORIES:Great Room
END:VEVENT
BEGIN:VEVENT
DTSTART;TZID=America/New_York:20241110T090000
DTEND;TZID=America/New_York:20241110T100000
DTSTAMP:20260423T190848
CREATED:20240604T211753Z
LAST-MODIFIED:20240604T211753Z
UID:1928-1731229200-1731232800@overbrookchurch.org
SUMMARY:Contemporary Worship Service
DESCRIPTION:If you enjoy a casual worship environment\, this is the service for you. During the service\, we sing songs led by a worship band\, use video and other visual elements\, and worship in a more informal style in our large gathering room.
URL:https://overbrookchurch.org/event/contemporary-worship-service-44/
CATEGORIES:Great Room
END:VEVENT
BEGIN:VEVENT
DTSTART;TZID=America/New_York:20241103T090000
DTEND;TZID=America/New_York:20241103T100000
DTSTAMP:20260423T190848
CREATED:20240604T211556Z
LAST-MODIFIED:20240604T211556Z
UID:1927-1730624400-1730628000@overbrookchurch.org
SUMMARY:Contemporary Worship Service
DESCRIPTION:If you enjoy a casual worship environment\, this is the service for you. During the service\, we sing songs led by a worship band\, use video and other visual elements\, and worship in a more informal style in our large gathering room.
URL:https://overbrookchurch.org/event/contemporary-worship-service-43/
CATEGORIES:Great Room
END:VEVENT
BEGIN:VEVENT
DTSTART;TZID=America/New_York:20241027T090000
DTEND;TZID=America/New_York:20241027T100000
DTSTAMP:20260423T190848
CREATED:20240604T211555Z
LAST-MODIFIED:20240604T211555Z
UID:1926-1730019600-1730023200@overbrookchurch.org
SUMMARY:Contemporary Worship Service
DESCRIPTION:If you enjoy a casual worship environment\, this is the service for you. During the service\, we sing songs led by a worship band\, use video and other visual elements\, and worship in a more informal style in our large gathering room.
URL:https://overbrookchurch.org/event/contemporary-worship-service-42/
CATEGORIES:Great Room
END:VEVENT
BEGIN:VEVENT
DTSTART;TZID=America/New_York:20241020T090000
DTEND;TZID=America/New_York:20241020T100000
DTSTAMP:20260423T190848
CREATED:20240604T211554Z
LAST-MODIFIED:20240604T211554Z
UID:1925-1729414800-1729418400@overbrookchurch.org
SUMMARY:Contemporary Worship Service
DESCRIPTION:If you enjoy a casual worship environment\, this is the service for you. During the service\, we sing songs led by a worship band\, use video and other visual elements\, and worship in a more informal style in our large gathering room.
URL:https://overbrookchurch.org/event/contemporary-worship-service-41/
CATEGORIES:Great Room
END:VEVENT
BEGIN:VEVENT
DTSTART;TZID=America/New_York:20241018T190000
DTEND;TZID=America/New_York:20241018T220000
DTSTAMP:20260423T190848
CREATED:20240604T220215Z
LAST-MODIFIED:20240604T220215Z
UID:2036-1729278000-1729288800@overbrookchurch.org
SUMMARY:Hollywood Jesus
DESCRIPTION:On the 3rd Friday of each month between September and May\, we gather to watch a movie and discuss the theological insights we discovered as we watched. Snacks\, drinks\, and comfy chairs are
URL:https://overbrookchurch.org/event/hollywood-jesus-7/
CATEGORIES:Great Room
END:VEVENT
BEGIN:VEVENT
DTSTART;TZID=America/New_York:20241013T090000
DTEND;TZID=America/New_York:20241013T100000
DTSTAMP:20260423T190848
CREATED:20240604T152045Z
LAST-MODIFIED:20240604T211554Z
UID:1638-1728810000-1728813600@overbrookchurch.org
SUMMARY:Contemporary Worship Service
DESCRIPTION:If you enjoy a casual worship environment\, this is the service for you. During the service\, we sing songs led by a worship band\, use video and other visual elements\, and worship in a more informal style in our large gathering room.
URL:https://overbrookchurch.org/event/contemporary-worship-service-40/
CATEGORIES:Great Room
END:VEVENT
BEGIN:VEVENT
DTSTART;TZID=America/New_York:20241008T190000
DTEND;TZID=America/New_York:20241008T200000
DTSTAMP:20260423T190848
CREATED:20240604T152009Z
LAST-MODIFIED:20240604T230142Z
UID:1626-1728414000-1728417600@overbrookchurch.org
SUMMARY:Personnel Committee
DESCRIPTION:
URL:https://overbrookchurch.org/event/personnel-committee-10/
CATEGORIES:Great Room
END:VEVENT
BEGIN:VEVENT
DTSTART;TZID=America/New_York:20241006T090000
DTEND;TZID=America/New_York:20241006T100000
DTSTAMP:20260423T190848
CREATED:20240604T152005Z
LAST-MODIFIED:20240604T211554Z
UID:1615-1728205200-1728208800@overbrookchurch.org
SUMMARY:Contemporary Worship Service
DESCRIPTION:If you enjoy a casual worship environment\, this is the service for you. During the service\, we sing songs led by a worship band\, use video and other visual elements\, and worship in a more informal style in our large gathering room.
URL:https://overbrookchurch.org/event/contemporary-worship-service-39/
CATEGORIES:Great Room
END:VEVENT
BEGIN:VEVENT
DTSTART;TZID=America/New_York:20240929T090000
DTEND;TZID=America/New_York:20240929T100000
DTSTAMP:20260423T190848
CREATED:20240604T151941Z
LAST-MODIFIED:20240604T211352Z
UID:1594-1727600400-1727604000@overbrookchurch.org
SUMMARY:Contemporary Worship Service
DESCRIPTION:If you enjoy a casual worship environment\, this is the service for you. During the service\, we sing songs led by a worship band\, use video and other visual elements\, and worship in a more informal style in our large gathering room.
URL:https://overbrookchurch.org/event/contemporary-worship-service-38/
CATEGORIES:Great Room
END:VEVENT
END:VCALENDAR