BEGIN:VCALENDAR
VERSION:2.0
PRODID:-//Overbrook Presbyterian Church - ECPv6.9.0//NONSGML v1.0//EN
CALSCALE:GREGORIAN
METHOD:PUBLISH
X-WR-CALNAME:Overbrook Presbyterian Church
X-ORIGINAL-URL:https://overbrookchurch.org
X-WR-CALDESC:Events for Overbrook Presbyterian Church
REFRESH-INTERVAL;VALUE=DURATION:PT1H
X-Robots-Tag:noindex
X-PUBLISHED-TTL:PT1H
BEGIN:VTIMEZONE
TZID:America/New_York
BEGIN:DAYLIGHT
TZOFFSETFROM:-0500
TZOFFSETTO:-0400
TZNAME:EDT
DTSTART:20240310T070000
END:DAYLIGHT
BEGIN:STANDARD
TZOFFSETFROM:-0400
TZOFFSETTO:-0500
TZNAME:EST
DTSTART:20241103T060000
END:STANDARD
END:VTIMEZONE
BEGIN:VEVENT
DTSTART;TZID=America/New_York:20240527T180000
DTEND;TZID=America/New_York:20240527T220000
DTSTAMP:20260424T022408
CREATED:20240604T151305Z
LAST-MODIFIED:20240604T230932Z
UID:1240-1716832800-1716847200@overbrookchurch.org
SUMMARY:Scouts
DESCRIPTION:Troop 474 meets on Monday evenings from 7:00 p.m. to 9:00 p.m. throughout the school year and at Whetstone Park during the summer. The troop has many activities including monthly camp-outs (often at brook’s John Beltz Retreat Center) and an annual Pinewood Derby.
URL:https://overbrookchurch.org/event/scouts-21/
CATEGORIES:Fellowship Hall|Room 202|Room 203|Room 204|Room 31|South Activities Room
END:VEVENT
BEGIN:VEVENT
DTSTART;TZID=America/New_York:20240520T180000
DTEND;TZID=America/New_York:20240520T220000
DTSTAMP:20260424T022408
CREATED:20240604T151224Z
LAST-MODIFIED:20240604T230932Z
UID:1223-1716228000-1716242400@overbrookchurch.org
SUMMARY:Scouts
DESCRIPTION:Troop 74 meets on Monday evenings from 7:00 p.m. to 9:00 p.m. throughout the school year and at Whetstone Park during the summer. The troop has many activities including monthly camp-outs (often at brook’s John Beltz Retreat Center) and an annual Pinewood Derby.
URL:https://overbrookchurch.org/event/scouts-20/
CATEGORIES:Fellowship Hall|Room 202|Room 203|Room 204|Room 31|South Activities Room
END:VEVENT
BEGIN:VEVENT
DTSTART;TZID=America/New_York:20240513T180000
DTEND;TZID=America/New_York:20240513T220000
DTSTAMP:20260424T022408
CREATED:20240604T151004Z
LAST-MODIFIED:20240604T230932Z
UID:1201-1715623200-1715637600@overbrookchurch.org
SUMMARY:Scouts
DESCRIPTION:Troop 74 meets on Monday evenings from 7:00 p.m. to 9:00 p.m. throughout the school year and at Whetstone Park during the summer. The troop has many activities including monthly camp-outs (often at brook’s John Beltz Retreat Center) and an annual Pinewood Derby.
URL:https://overbrookchurch.org/event/scouts-19/
CATEGORIES:Fellowship Hall|Room 202|Room 203|Room 204|Room 31|South Activities Room
END:VEVENT
BEGIN:VEVENT
DTSTART;TZID=America/New_York:20240506T180000
DTEND;TZID=America/New_York:20240506T220000
DTSTAMP:20260424T022408
CREATED:20240604T150234Z
LAST-MODIFIED:20240604T230825Z
UID:1184-1715018400-1715032800@overbrookchurch.org
SUMMARY:Scouts
DESCRIPTION:Troop 74 meets on Monday evenings from 7:00 p.m. to 9:00 p.m. throughout the school year and at Whetstone Park during the summer. The troop has many activities including monthly camp-outs (often at brook’s John Beltz Retreat Center) and an annual Pinewood Derby.
URL:https://overbrookchurch.org/event/scouts-18/
CATEGORIES:Fellowship Hall|Room 202|Room 203|Room 204|Room 31|South Activities Room
END:VEVENT
BEGIN:VEVENT
DTSTART;TZID=America/New_York:20240429T180000
DTEND;TZID=America/New_York:20240429T220000
DTSTAMP:20260424T022408
CREATED:20240604T145654Z
LAST-MODIFIED:20240604T230825Z
UID:1162-1714413600-1714428000@overbrookchurch.org
SUMMARY:Scouts
DESCRIPTION:Troop 74 meets on Monday evenings from 7:00 p.m. to 9:00 p.m. throughout the school year and at Whetstone Park during the summer. The troop has many activities including monthly camp-outs (often at brook’s John Beltz Retreat Center) and an annual Pinewood Derby.
URL:https://overbrookchurch.org/event/scouts-17/
CATEGORIES:Fellowship Hall|Room 202|Room 203|Room 204|Room 31|South Activities Room
END:VEVENT
BEGIN:VEVENT
DTSTART;TZID=America/New_York:20240422T180000
DTEND;TZID=America/New_York:20240422T220000
DTSTAMP:20260424T022408
CREATED:20240604T145039Z
LAST-MODIFIED:20240604T230825Z
UID:1144-1713808800-1713823200@overbrookchurch.org
SUMMARY:Scouts
DESCRIPTION:Troop 74 meets on Monday evenings from 7:00 p.m. to 9:00 p.m. throughout the school year and at Whetstone Park during the summer. The troop has many activities including monthly camp-outs (often at brook’s John Beltz Retreat Center) and an annual Pinewood Derby.
URL:https://overbrookchurch.org/event/scouts-16/
CATEGORIES:Fellowship Hall|Room 202|Room 203|Room 204|Room 31|South Activities Room
END:VEVENT
BEGIN:VEVENT
DTSTART;TZID=America/New_York:20240415T180000
DTEND;TZID=America/New_York:20240415T220000
DTSTAMP:20260424T022408
CREATED:20240604T144607Z
LAST-MODIFIED:20240604T230825Z
UID:1124-1713204000-1713218400@overbrookchurch.org
SUMMARY:Scouts
DESCRIPTION:Troop 74 meets on Monday evenings from 7:00 p.m. to 9:00 p.m. throughout the school year and at Whetstone Park during the summer. The troop has many activities including monthly camp-outs (often at brook’s John Beltz Retreat Center) and an annual Pinewood Derby.
URL:https://overbrookchurch.org/event/scouts-15/
CATEGORIES:Fellowship Hall|Room 202|Room 203|Room 204|Room 31|South Activities Room
END:VEVENT
BEGIN:VEVENT
DTSTART;TZID=America/New_York:20240408T180000
DTEND;TZID=America/New_York:20240408T220000
DTSTAMP:20260424T022408
CREATED:20240604T144254Z
LAST-MODIFIED:20240604T230825Z
UID:1104-1712599200-1712613600@overbrookchurch.org
SUMMARY:Scouts
DESCRIPTION:Troop 74 meets on Monday evenings from 7:00 p.m. to 9:00 p.m. throughout the school year and at Whetstone Park during the summer. The troop has many activities including monthly camp-outs (often at brook’s John Beltz Retreat Center) and an annual Pinewood Derby.
URL:https://overbrookchurch.org/event/scouts-14/
CATEGORIES:Fellowship Hall|Room 202|Room 203|Room 204|Room 31|South Activities Room
END:VEVENT
BEGIN:VEVENT
DTSTART;TZID=America/New_York:20240401T180000
DTEND;TZID=America/New_York:20240401T220000
DTSTAMP:20260424T022408
CREATED:20240604T143839Z
LAST-MODIFIED:20240604T230731Z
UID:1088-1711994400-1712008800@overbrookchurch.org
SUMMARY:Scouts
DESCRIPTION:Troop 74 meets on Monday evenings from 7:00 p.m. to 9:00 p.m. throughout the school year and at Whetstone Park during the summer. The troop has many activities including monthly camp-outs (often at brook’s John Beltz Retreat Center) and an annual Pinewood Derby.
URL:https://overbrookchurch.org/event/scouts-13/
CATEGORIES:Fellowship Hall|Room 202|Room 203|Room 204|Room 31|South Activities Room
END:VEVENT
BEGIN:VEVENT
DTSTART;TZID=America/New_York:20240325T180000
DTEND;TZID=America/New_York:20240325T220000
DTSTAMP:20260424T022408
CREATED:20240604T143505Z
LAST-MODIFIED:20240604T230731Z
UID:1073-1711389600-1711404000@overbrookchurch.org
SUMMARY:Scouts
DESCRIPTION:Troop 74 meets on Monday evenings from 7:00 p.m. to 9:00 p.m. throughout the school year and at Whetstone Park during the summer. The troop has many activities including monthly camp-outs (often at brook’s John Beltz Retreat Center) and an annual Pinewood Derby.
URL:https://overbrookchurch.org/event/scouts-12/
CATEGORIES:Fellowship Hall|Room 202|Room 203|Room 204|Room 31|South Activities Room
END:VEVENT
BEGIN:VEVENT
DTSTART;TZID=America/New_York:20240318T180000
DTEND;TZID=America/New_York:20240318T220000
DTSTAMP:20260424T022408
CREATED:20240604T143314Z
LAST-MODIFIED:20240604T230731Z
UID:1055-1710784800-1710799200@overbrookchurch.org
SUMMARY:Scouts
DESCRIPTION:Troop 74 meets on Monday evenings from 7:00 p.m. to 9:00 p.m. throughout the school year and at Whetstone Park during the summer. The troop has many activities including monthly camp-outs (often at brook’s John Beltz Retreat Center) and an annual Pinewood Derby.
URL:https://overbrookchurch.org/event/scouts-11/
CATEGORIES:Fellowship Hall|Room 202|Room 203|Room 204|Room 31|South Activities Room
END:VEVENT
BEGIN:VEVENT
DTSTART;TZID=America/New_York:20240311T180000
DTEND;TZID=America/New_York:20240311T220000
DTSTAMP:20260424T022408
CREATED:20240604T142514Z
LAST-MODIFIED:20240604T230731Z
UID:1035-1710180000-1710194400@overbrookchurch.org
SUMMARY:Scouts
DESCRIPTION:Troop 74 meets on Monday evenings from 7:00 p.m. to 9:00 p.m. throughout the school year and at Whetstone Park during the summer. The troop has many activities including monthly camp-outs (often at brook’s John Beltz Retreat Center) and an annual Pinewood Derby.
URL:https://overbrookchurch.org/event/scouts-10/
CATEGORIES:Fellowship Hall|Room 202|Room 203|Room 204|Room 31|South Activities Room
END:VEVENT
BEGIN:VEVENT
DTSTART;TZID=America/New_York:20240304T180000
DTEND;TZID=America/New_York:20240304T220000
DTSTAMP:20260424T022408
CREATED:20240604T142043Z
LAST-MODIFIED:20240604T230731Z
UID:1017-1709575200-1709589600@overbrookchurch.org
SUMMARY:Scouts
DESCRIPTION:Troop 74 meets on Monday evenings from 7:00 p.m. to 9:00 p.m. throughout the school year and at Whetstone Park during the summer. The troop has many activities including monthly camp-outs (often at brook’s John Beltz Retreat Center) and an annual Pinewood Derby.
URL:https://overbrookchurch.org/event/scouts-9/
CATEGORIES:Fellowship Hall|Room 202|Room 203|Room 204|Room 31|South Activities Room
END:VEVENT
BEGIN:VEVENT
DTSTART;TZID=America/New_York:20240226T180000
DTEND;TZID=America/New_York:20240226T220000
DTSTAMP:20260424T022408
CREATED:20240604T140837Z
LAST-MODIFIED:20240604T230624Z
UID:999-1708970400-1708984800@overbrookchurch.org
SUMMARY:Scouts
DESCRIPTION:Troop 74 meets on Monday evenings from 7:00 p.m. to 9:00 p.m. throughout the school year and at Whetstone Park during the summer. The troop has many activities including monthly camp-outs (often at brook’s John Beltz Retreat Center) and an annual Pinewood Derby.
URL:https://overbrookchurch.org/event/scouts-8/
CATEGORIES:Fellowship Hall|Room 202|Room 203|Room 204|Room 31|South Activities Room
END:VEVENT
BEGIN:VEVENT
DTSTART;TZID=America/New_York:20240219T180000
DTEND;TZID=America/New_York:20240219T220000
DTSTAMP:20260424T022408
CREATED:20240604T135609Z
LAST-MODIFIED:20240604T230624Z
UID:976-1708365600-1708380000@overbrookchurch.org
SUMMARY:Scouts
DESCRIPTION:Troop 74 meets on Monday evenings from 7:00 p.m. to 9:00 p.m. throughout the school year and at Whetstone Park during the summer. The troop has many activities including monthly camp-outs (often at brook’s John Beltz Retreat Center) and an annual Pinewood Derby.
URL:https://overbrookchurch.org/event/scouts-7/
CATEGORIES:Fellowship Hall|Room 202|Room 203|Room 204|Room 31|South Activities Room
END:VEVENT
BEGIN:VEVENT
DTSTART;TZID=America/New_York:20240212T180000
DTEND;TZID=America/New_York:20240212T220000
DTSTAMP:20260424T022408
CREATED:20240604T134604Z
LAST-MODIFIED:20240604T230624Z
UID:951-1707760800-1707775200@overbrookchurch.org
SUMMARY:Scouts
DESCRIPTION:Troop 74 meets on Monday evenings from 7:00 p.m. to 9:00 p.m. throughout the school year and at Whetstone Park during the summer. The troop has many activities including monthly camp-outs (often at brook’s John Beltz Retreat Center) and an annual Pinewood Derby.
URL:https://overbrookchurch.org/event/scouts-6/
CATEGORIES:Fellowship Hall|Room 202|Room 203|Room 204|Room 31|South Activities Room
END:VEVENT
BEGIN:VEVENT
DTSTART;TZID=America/New_York:20240205T180000
DTEND;TZID=America/New_York:20240205T220000
DTSTAMP:20260424T022408
CREATED:20240604T134235Z
LAST-MODIFIED:20240604T230624Z
UID:932-1707156000-1707170400@overbrookchurch.org
SUMMARY:Scouts
DESCRIPTION:Troop 74 meets on Monday evenings from 7:00 p.m. to 9:00 p.m. throughout the school year and at Whetstone Park during the summer. The troop has many activities including monthly camp-outs (often at brook’s John Beltz Retreat Center) and an annual Pinewood Derby.
URL:https://overbrookchurch.org/event/scouts-5/
CATEGORIES:Fellowship Hall|Room 202|Room 203|Room 204|Room 31|South Activities Room
END:VEVENT
BEGIN:VEVENT
DTSTART;TZID=America/New_York:20240129T180000
DTEND;TZID=America/New_York:20240129T220000
DTSTAMP:20260424T022408
CREATED:20240604T133737Z
LAST-MODIFIED:20240604T230624Z
UID:910-1706551200-1706565600@overbrookchurch.org
SUMMARY:Scouts
DESCRIPTION:Troop 74 meets on Monday evenings from 7:00 p.m. to 9:00 p.m. throughout the school year and at Whetstone Park during the summer. The troop has many activities including monthly camp-outs (often at brook’s John Beltz Retreat Center) and an annual Pinewood Derby.
URL:https://overbrookchurch.org/event/scouts-4/
CATEGORIES:Fellowship Hall|Room 202|Room 203|Room 204|Room 31|South Activities Room
END:VEVENT
BEGIN:VEVENT
DTSTART;TZID=America/New_York:20240122T180000
DTEND;TZID=America/New_York:20240122T220000
DTSTAMP:20260424T022408
CREATED:20240604T132933Z
LAST-MODIFIED:20240604T230530Z
UID:894-1705946400-1705960800@overbrookchurch.org
SUMMARY:Scouts
DESCRIPTION:Troop 74 meets on Monday evenings from 7:00 p.m. to 9:00 p.m. throughout the school year and at Whetstone Park during the summer. The troop has many activities including monthly camp-outs (often at brook’s John Beltz Retreat Center) and an annual Pinewood Derby.
URL:https://overbrookchurch.org/event/scouts-3/
CATEGORIES:Fellowship Hall|Room 202|Room 203|Room 204|Room 31|South Activities Room
END:VEVENT
BEGIN:VEVENT
DTSTART;TZID=America/New_York:20240115T180000
DTEND;TZID=America/New_York:20240115T220000
DTSTAMP:20260424T022408
CREATED:20240603T213148Z
LAST-MODIFIED:20240604T230530Z
UID:834-1705341600-1705356000@overbrookchurch.org
SUMMARY:Scouts
DESCRIPTION:Troop 74 meets on Monday evenings from 7:00 p.m. to 9:00 p.m. throughout the school year and at Whetstone Park during the summer. The troop has many activities including monthly camp-outs (often at brook’s John Beltz Retreat Center) and an annual Pinewood Derby.
URL:https://overbrookchurch.org/event/scouts-2/
CATEGORIES:Fellowship Hall|Room 202|Room 203|Room 204|Room 31|South Activities Room
END:VEVENT
BEGIN:VEVENT
DTSTART;TZID=America/New_York:20240108T180000
DTEND;TZID=America/New_York:20240108T220000
DTSTAMP:20260424T022408
CREATED:20240603T211921Z
LAST-MODIFIED:20240604T230530Z
UID:812-1704736800-1704751200@overbrookchurch.org
SUMMARY:Scouts
DESCRIPTION:Troop 74 meets on Monday evenings from 7:00 p.m. to 9:00 p.m. throughout the school year and at Whetstone Park during the summer. The troop has many activities including monthly camp-outs (often at brook’s John Beltz Retreat Center) and an annual Pinewood Derby.
URL:https://overbrookchurch.org/event/scouts/
CATEGORIES:Fellowship Hall|Room 202|Room 203|Room 204|Room 31|South Activities Room
END:VEVENT
END:VCALENDAR