BEGIN:VCALENDAR
VERSION:2.0
PRODID:-//Overbrook Presbyterian Church - ECPv6.9.0//NONSGML v1.0//EN
CALSCALE:GREGORIAN
METHOD:PUBLISH
X-ORIGINAL-URL:https://overbrookchurch.org
X-WR-CALDESC:Events for Overbrook Presbyterian Church
REFRESH-INTERVAL;VALUE=DURATION:PT1H
X-Robots-Tag:noindex
X-PUBLISHED-TTL:PT1H
BEGIN:VTIMEZONE
TZID:America/New_York
BEGIN:DAYLIGHT
TZOFFSETFROM:-0500
TZOFFSETTO:-0400
TZNAME:EDT
DTSTART:20240310T070000
END:DAYLIGHT
BEGIN:STANDARD
TZOFFSETFROM:-0400
TZOFFSETTO:-0500
TZNAME:EST
DTSTART:20241103T060000
END:STANDARD
BEGIN:DAYLIGHT
TZOFFSETFROM:-0500
TZOFFSETTO:-0400
TZNAME:EDT
DTSTART:20250309T070000
END:DAYLIGHT
BEGIN:STANDARD
TZOFFSETFROM:-0400
TZOFFSETTO:-0500
TZNAME:EST
DTSTART:20251102T060000
END:STANDARD
END:VTIMEZONE
BEGIN:VEVENT
DTSTART;TZID=America/New_York:20250125T090000
DTEND;TZID=America/New_York:20250125T110000
DTSTAMP:20260425T063142
CREATED:20241204T014048Z
LAST-MODIFIED:20241204T014048Z
UID:3220-1737795600-1737802800@overbrookchurch.org
SUMMARY:Alcoholics Anonymous HOW
DESCRIPTION:
URL:https://overbrookchurch.org/event/alcoholics-anonymous-how-97/
CATEGORIES:Fellowship Hall
END:VEVENT
BEGIN:VEVENT
DTSTART;TZID=America/New_York:20250118T090000
DTEND;TZID=America/New_York:20250118T110000
DTSTAMP:20260425T063142
CREATED:20241204T013544Z
LAST-MODIFIED:20241204T013544Z
UID:3202-1737190800-1737198000@overbrookchurch.org
SUMMARY:Alcoholics Anonymous HOW
DESCRIPTION:
URL:https://overbrookchurch.org/event/alcoholics-anonymous-how-96/
CATEGORIES:Fellowship Hall
END:VEVENT
BEGIN:VEVENT
DTSTART;TZID=America/New_York:20250114T190000
DTEND;TZID=America/New_York:20250114T200000
DTSTAMP:20260425T063142
CREATED:20241204T013443Z
LAST-MODIFIED:20241204T013443Z
UID:3193-1736881200-1736884800@overbrookchurch.org
SUMMARY:Properties Committee
DESCRIPTION:
URL:https://overbrookchurch.org/event/properties-committee-12/
CATEGORIES:Fellowship Hall
END:VEVENT
BEGIN:VEVENT
DTSTART;TZID=America/New_York:20250111T090000
DTEND;TZID=America/New_York:20250111T110000
DTSTAMP:20260425T063142
CREATED:20241204T013331Z
LAST-MODIFIED:20241204T013331Z
UID:3179-1736586000-1736593200@overbrookchurch.org
SUMMARY:Alcoholics Anonymous HOW
DESCRIPTION:
URL:https://overbrookchurch.org/event/alcoholics-anonymous-how-95/
CATEGORIES:Fellowship Hall
END:VEVENT
BEGIN:VEVENT
DTSTART;TZID=America/New_York:20250104T090000
DTEND;TZID=America/New_York:20250104T110000
DTSTAMP:20260425T063142
CREATED:20241204T013247Z
LAST-MODIFIED:20241204T013247Z
UID:3164-1735981200-1735988400@overbrookchurch.org
SUMMARY:Alcoholics Anonymous HOW
DESCRIPTION:
URL:https://overbrookchurch.org/event/alcoholics-anonymous-how-94/
CATEGORIES:Fellowship Hall
END:VEVENT
BEGIN:VEVENT
DTSTART;TZID=America/New_York:20241228T090000
DTEND;TZID=America/New_York:20241228T110000
DTSTAMP:20260425T063142
CREATED:20240604T201623Z
LAST-MODIFIED:20240604T201623Z
UID:1752-1735376400-1735383600@overbrookchurch.org
SUMMARY:Alcoholics Anonymous® HOW
DESCRIPTION:Alcoholics Anonymous® is a fellowship of men and women who share their experience\, strength and hope with each other that they may solve their common problem and help others to recover from alcoholism. The only requirement for membership is a desire to stop drinking.
URL:https://overbrookchurch.org/event/alcoholics-anonymous-how-93/
CATEGORIES:Fellowship Hall
END:VEVENT
BEGIN:VEVENT
DTSTART;TZID=America/New_York:20241221T090000
DTEND;TZID=America/New_York:20241221T110000
DTSTAMP:20260425T063142
CREATED:20240604T201623Z
LAST-MODIFIED:20240604T201623Z
UID:1751-1734771600-1734778800@overbrookchurch.org
SUMMARY:Alcoholics Anonymous® HOW
DESCRIPTION:Alcoholics Anonymous® is a fellowship of men and women who share their experience\, strength and hope with each other that they may solve their common problem and help others to recover from alcoholism. The only requirement for membership is a desire to stop drinking.
URL:https://overbrookchurch.org/event/alcoholics-anonymous-how-92/
CATEGORIES:Fellowship Hall
END:VEVENT
BEGIN:VEVENT
DTSTART;TZID=America/New_York:20241214T090000
DTEND;TZID=America/New_York:20241214T110000
DTSTAMP:20260425T063142
CREATED:20240604T201623Z
LAST-MODIFIED:20240604T201623Z
UID:1750-1734166800-1734174000@overbrookchurch.org
SUMMARY:Alcoholics Anonymous® HOW
DESCRIPTION:Alcoholics Anonymous® is a fellowship of men and women who share their experience\, strength and hope with each other that they may solve their common problem and help others to recover from alcoholism. The only requirement for membership is a desire to stop drinking.
URL:https://overbrookchurch.org/event/alcoholics-anonymous-how-91/
CATEGORIES:Fellowship Hall
END:VEVENT
BEGIN:VEVENT
DTSTART;TZID=America/New_York:20241210T190000
DTEND;TZID=America/New_York:20241210T200000
DTSTAMP:20260425T063142
CREATED:20240604T230222Z
LAST-MODIFIED:20240604T230222Z
UID:2239-1733857200-1733860800@overbrookchurch.org
SUMMARY:Properties Committee
DESCRIPTION:
URL:https://overbrookchurch.org/event/properties-committee-11/
CATEGORIES:Fellowship Hall
END:VEVENT
BEGIN:VEVENT
DTSTART;TZID=America/New_York:20241208T170000
DTEND;TZID=America/New_York:20241208T190000
DTSTAMP:20260425T063142
CREATED:20240604T204135Z
LAST-MODIFIED:20240604T204135Z
UID:1845-1733677200-1733684400@overbrookchurch.org
SUMMARY:Christmas Carol Buffet
DESCRIPTION:
URL:https://overbrookchurch.org/event/christmas-carol-buffet/
CATEGORIES:Fellowship Hall
END:VEVENT
BEGIN:VEVENT
DTSTART;TZID=America/New_York:20241207T090000
DTEND;TZID=America/New_York:20241207T110000
DTSTAMP:20260425T063142
CREATED:20240604T201623Z
LAST-MODIFIED:20240604T201623Z
UID:1749-1733562000-1733569200@overbrookchurch.org
SUMMARY:Alcoholics Anonymous® HOW
DESCRIPTION:Alcoholics Anonymous® is a fellowship of men and women who share their experience\, strength and hope with each other that they may solve their common problem and help others to recover from alcoholism. The only requirement for membership is a desire to stop drinking.
URL:https://overbrookchurch.org/event/alcoholics-anonymous-how-90/
CATEGORIES:Fellowship Hall
END:VEVENT
BEGIN:VEVENT
DTSTART;TZID=America/New_York:20241130T090000
DTEND;TZID=America/New_York:20241130T110000
DTSTAMP:20260425T063142
CREATED:20240604T201609Z
LAST-MODIFIED:20240604T201609Z
UID:1748-1732957200-1732964400@overbrookchurch.org
SUMMARY:Alcoholics Anonymous® HOW
DESCRIPTION:Alcoholics Anonymous® is a fellowship of men and women who share their experience\, strength and hope with each other that they may solve their common problem and help others to recover from alcoholism. The only requirement for membership is a desire to stop drinking.
URL:https://overbrookchurch.org/event/alcoholics-anonymous-how-89/
CATEGORIES:Fellowship Hall
END:VEVENT
BEGIN:VEVENT
DTSTART;TZID=America/New_York:20241123T090000
DTEND;TZID=America/New_York:20241123T110000
DTSTAMP:20260425T063142
CREATED:20240604T201609Z
LAST-MODIFIED:20240604T201609Z
UID:1747-1732352400-1732359600@overbrookchurch.org
SUMMARY:Alcoholics Anonymous® HOW
DESCRIPTION:Alcoholics Anonymous® is a fellowship of men and women who share their experience\, strength and hope with each other that they may solve their common problem and help others to recover from alcoholism. The only requirement for membership is a desire to stop drinking.
URL:https://overbrookchurch.org/event/alcoholics-anonymous-how-88/
CATEGORIES:Fellowship Hall
END:VEVENT
BEGIN:VEVENT
DTSTART;TZID=America/New_York:20241116T090000
DTEND;TZID=America/New_York:20241116T110000
DTSTAMP:20260425T063142
CREATED:20240604T201608Z
LAST-MODIFIED:20240604T201608Z
UID:1746-1731747600-1731754800@overbrookchurch.org
SUMMARY:Alcoholics Anonymous® HOW
DESCRIPTION:Alcoholics Anonymous® is a fellowship of men and women who share their experience\, strength and hope with each other that they may solve their common problem and help others to recover from alcoholism. The only requirement for membership is a desire to stop drinking.
URL:https://overbrookchurch.org/event/alcoholics-anonymous-how-87/
CATEGORIES:Fellowship Hall
END:VEVENT
BEGIN:VEVENT
DTSTART;TZID=America/New_York:20241112T190000
DTEND;TZID=America/New_York:20241112T200000
DTSTAMP:20260425T063142
CREATED:20240604T230221Z
LAST-MODIFIED:20240604T230221Z
UID:2238-1731438000-1731441600@overbrookchurch.org
SUMMARY:Properties Committee
DESCRIPTION:
URL:https://overbrookchurch.org/event/properties-committee-10/
CATEGORIES:Fellowship Hall
END:VEVENT
BEGIN:VEVENT
DTSTART;TZID=America/New_York:20241109T090000
DTEND;TZID=America/New_York:20241109T110000
DTSTAMP:20260425T063142
CREATED:20240604T201608Z
LAST-MODIFIED:20240604T201608Z
UID:1745-1731142800-1731150000@overbrookchurch.org
SUMMARY:Alcoholics Anonymous® HOW
DESCRIPTION:Alcoholics Anonymous® is a fellowship of men and women who share their experience\, strength and hope with each other that they may solve their common problem and help others to recover from alcoholism. The only requirement for membership is a desire to stop drinking.
URL:https://overbrookchurch.org/event/alcoholics-anonymous-how-86/
CATEGORIES:Fellowship Hall
END:VEVENT
BEGIN:VEVENT
DTSTART;TZID=America/New_York:20241102T090000
DTEND;TZID=America/New_York:20241102T110000
DTSTAMP:20260425T063142
CREATED:20240604T201608Z
LAST-MODIFIED:20240604T201608Z
UID:1744-1730538000-1730545200@overbrookchurch.org
SUMMARY:Alcoholics Anonymous® HOW
DESCRIPTION:Alcoholics Anonymous® is a fellowship of men and women who share their experience\, strength and hope with each other that they may solve their common problem and help others to recover from alcoholism. The only requirement for membership is a desire to stop drinking.
URL:https://overbrookchurch.org/event/alcoholics-anonymous-how-85/
CATEGORIES:Fellowship Hall
END:VEVENT
BEGIN:VEVENT
DTSTART;TZID=America/New_York:20241026T090000
DTEND;TZID=America/New_York:20241026T110000
DTSTAMP:20260425T063142
CREATED:20240604T201533Z
LAST-MODIFIED:20240604T201533Z
UID:1743-1729933200-1729940400@overbrookchurch.org
SUMMARY:Alcoholics Anonymous® HOW
DESCRIPTION:Alcoholics Anonymous® is a fellowship of men and women who share their experience\, strength and hope with each other that they may solve their common problem and help others to recover from alcoholism. The only requirement for membership is a desire to stop drinking.
URL:https://overbrookchurch.org/event/alcoholics-anonymous-how-84/
CATEGORIES:Fellowship Hall
END:VEVENT
BEGIN:VEVENT
DTSTART;TZID=America/New_York:20241019T090000
DTEND;TZID=America/New_York:20241019T110000
DTSTAMP:20260425T063142
CREATED:20240604T201533Z
LAST-MODIFIED:20240604T201533Z
UID:1742-1729328400-1729335600@overbrookchurch.org
SUMMARY:Alcoholics Anonymous® HOW
DESCRIPTION:Alcoholics Anonymous® is a fellowship of men and women who share their experience\, strength and hope with each other that they may solve their common problem and help others to recover from alcoholism. The only requirement for membership is a desire to stop drinking.
URL:https://overbrookchurch.org/event/alcoholics-anonymous-how-83/
CATEGORIES:Fellowship Hall
END:VEVENT
BEGIN:VEVENT
DTSTART;TZID=America/New_York:20241012T090000
DTEND;TZID=America/New_York:20241012T110000
DTSTAMP:20260425T063142
CREATED:20240604T201533Z
LAST-MODIFIED:20240604T201533Z
UID:1741-1728723600-1728730800@overbrookchurch.org
SUMMARY:Alcoholics Anonymous® HOW
DESCRIPTION:Alcoholics Anonymous® is a fellowship of men and women who share their experience\, strength and hope with each other that they may solve their common problem and help others to recover from alcoholism. The only requirement for membership is a desire to stop drinking.
URL:https://overbrookchurch.org/event/alcoholics-anonymous-how-82/
CATEGORIES:Fellowship Hall
END:VEVENT
BEGIN:VEVENT
DTSTART;TZID=America/New_York:20241008T190000
DTEND;TZID=America/New_York:20241008T200000
DTSTAMP:20260425T063142
CREATED:20240604T152010Z
LAST-MODIFIED:20240604T230209Z
UID:1629-1728414000-1728417600@overbrookchurch.org
SUMMARY:Properties Committee
DESCRIPTION:
URL:https://overbrookchurch.org/event/properties-committee-9/
CATEGORIES:Fellowship Hall
END:VEVENT
BEGIN:VEVENT
DTSTART;TZID=America/New_York:20241005T090000
DTEND;TZID=America/New_York:20241005T110000
DTSTAMP:20260425T063142
CREATED:20240604T201533Z
LAST-MODIFIED:20240604T201533Z
UID:1740-1728118800-1728126000@overbrookchurch.org
SUMMARY:Alcoholics Anonymous® HOW
DESCRIPTION:Alcoholics Anonymous® is a fellowship of men and women who share their experience\, strength and hope with each other that they may solve their common problem and help others to recover from alcoholism. The only requirement for membership is a desire to stop drinking.
URL:https://overbrookchurch.org/event/alcoholics-anonymous-how-81/
CATEGORIES:Fellowship Hall
END:VEVENT
BEGIN:VEVENT
DTSTART;TZID=America/New_York:20240928T090000
DTEND;TZID=America/New_York:20240928T110000
DTSTAMP:20260425T063142
CREATED:20240604T201533Z
LAST-MODIFIED:20240604T201533Z
UID:1739-1727514000-1727521200@overbrookchurch.org
SUMMARY:Alcoholics Anonymous® HOW
DESCRIPTION:Alcoholics Anonymous® is a fellowship of men and women who share their experience\, strength and hope with each other that they may solve their common problem and help others to recover from alcoholism. The only requirement for membership is a desire to stop drinking.
URL:https://overbrookchurch.org/event/alcoholics-anonymous-how-80/
CATEGORIES:Fellowship Hall
END:VEVENT
BEGIN:VEVENT
DTSTART;TZID=America/New_York:20240921T090000
DTEND;TZID=America/New_York:20240921T110000
DTSTAMP:20260425T063142
CREATED:20240604T201333Z
LAST-MODIFIED:20240604T201333Z
UID:1738-1726909200-1726916400@overbrookchurch.org
SUMMARY:Alcoholics Anonymous® HOW
DESCRIPTION:Alcoholics Anonymous® is a fellowship of men and women who share their experience\, strength and hope with each other that they may solve their common problem and help others to recover from alcoholism. The only requirement for membership is a desire to stop drinking.
URL:https://overbrookchurch.org/event/alcoholics-anonymous-how-79/
CATEGORIES:Fellowship Hall
END:VEVENT
BEGIN:VEVENT
DTSTART;TZID=America/New_York:20240914T090000
DTEND;TZID=America/New_York:20240914T110000
DTSTAMP:20260425T063142
CREATED:20240604T201333Z
LAST-MODIFIED:20240604T201333Z
UID:1737-1726304400-1726311600@overbrookchurch.org
SUMMARY:Alcoholics Anonymous® HOW
DESCRIPTION:Alcoholics Anonymous® is a fellowship of men and women who share their experience\, strength and hope with each other that they may solve their common problem and help others to recover from alcoholism. The only requirement for membership is a desire to stop drinking.
URL:https://overbrookchurch.org/event/alcoholics-anonymous-how-78/
CATEGORIES:Fellowship Hall
END:VEVENT
BEGIN:VEVENT
DTSTART;TZID=America/New_York:20240910T190000
DTEND;TZID=America/New_York:20240910T200000
DTSTAMP:20260425T063142
CREATED:20240604T151905Z
LAST-MODIFIED:20240604T230209Z
UID:1552-1725994800-1725998400@overbrookchurch.org
SUMMARY:Properties Committee
DESCRIPTION:
URL:https://overbrookchurch.org/event/properties-committee-8/
CATEGORIES:Fellowship Hall
END:VEVENT
BEGIN:VEVENT
DTSTART;TZID=America/New_York:20240907T090000
DTEND;TZID=America/New_York:20240907T110000
DTSTAMP:20260425T063142
CREATED:20240604T201333Z
LAST-MODIFIED:20240604T201333Z
UID:1736-1725699600-1725706800@overbrookchurch.org
SUMMARY:Alcoholics Anonymous® HOW
DESCRIPTION:Alcoholics Anonymous® is a fellowship of men and women who share their experience\, strength and hope with each other that they may solve their common problem and help others to recover from alcoholism.  The only requirement for membership is a desire to stop drinking.
URL:https://overbrookchurch.org/event/alcoholics-anonymous-how-77/
CATEGORIES:Fellowship Hall
END:VEVENT
BEGIN:VEVENT
DTSTART;TZID=America/New_York:20240831T090000
DTEND;TZID=America/New_York:20240831T110000
DTSTAMP:20260425T063142
CREATED:20240604T201333Z
LAST-MODIFIED:20240604T201333Z
UID:1735-1725094800-1725102000@overbrookchurch.org
SUMMARY:Alcoholics Anonymous® HOW
DESCRIPTION:Alcoholics Anonymous® is a fellowship of men and women who share their experience\, strength and hope with each other that they may solve their common problem and help others to recover from alcoholism. The only requirement for membership is a desire to stop drinking.
URL:https://overbrookchurch.org/event/alcoholics-anonymous-how-76/
CATEGORIES:Fellowship Hall
END:VEVENT
BEGIN:VEVENT
DTSTART;TZID=America/New_York:20240824T090000
DTEND;TZID=America/New_York:20240824T110000
DTSTAMP:20260425T063142
CREATED:20240604T201333Z
LAST-MODIFIED:20240604T201333Z
UID:1734-1724490000-1724497200@overbrookchurch.org
SUMMARY:Alcoholics Anonymous® HOW
DESCRIPTION:Alcoholics Anonymous® is a fellowship of men and women who share their experience\, strength and hope with each other that they may solve their common problem and help others to recover from alcoholism. The only requirement for membership is a desire to stop drinking.
URL:https://overbrookchurch.org/event/alcoholics-anonymous-how-75/
CATEGORIES:Fellowship Hall
END:VEVENT
BEGIN:VEVENT
DTSTART;TZID=America/New_York:20240817T090000
DTEND;TZID=America/New_York:20240817T110000
DTSTAMP:20260425T063142
CREATED:20240604T201133Z
LAST-MODIFIED:20240604T201133Z
UID:1733-1723885200-1723892400@overbrookchurch.org
SUMMARY:Alcoholics Anonymous® HOW
DESCRIPTION:Alcoholics Anonymous® is a fellowship of men and women who share their experience\, strength and hope with each other that they may solve their common problem and help others to recover from alcoholism. The only requirement for membership is a desire to stop drinking.
URL:https://overbrookchurch.org/event/alcoholics-anonymous-how-74/
CATEGORIES:Fellowship Hall
END:VEVENT
END:VCALENDAR