BEGIN:VCALENDAR
VERSION:2.0
PRODID:-//Overbrook Presbyterian Church - ECPv6.9.0//NONSGML v1.0//EN
CALSCALE:GREGORIAN
METHOD:PUBLISH
X-ORIGINAL-URL:https://overbrookchurch.org
X-WR-CALDESC:Events for Overbrook Presbyterian Church
REFRESH-INTERVAL;VALUE=DURATION:PT1H
X-Robots-Tag:noindex
X-PUBLISHED-TTL:PT1H
BEGIN:VTIMEZONE
TZID:America/New_York
BEGIN:DAYLIGHT
TZOFFSETFROM:-0500
TZOFFSETTO:-0400
TZNAME:EDT
DTSTART:20240310T070000
END:DAYLIGHT
BEGIN:STANDARD
TZOFFSETFROM:-0400
TZOFFSETTO:-0500
TZNAME:EST
DTSTART:20241103T060000
END:STANDARD
END:VTIMEZONE
BEGIN:VEVENT
DTSTART;TZID=America/New_York:20240303T100000
DTEND;TZID=America/New_York:20240303T110000
DTSTAMP:20260423T110439
CREATED:20240604T141843Z
LAST-MODIFIED:20240604T225039Z
UID:1013-1709460000-1709463600@overbrookchurch.org
SUMMARY:Open Shelter Lunch Packing
DESCRIPTION:Help us pack a free to-go meal for the day center clients at The Open Shelter. We can always use a few more hands willing to make a sandwich\, bag cookies\, and fill lunch bags.
URL:https://overbrookchurch.org/event/open-shelter-lunch-packing-2/
CATEGORIES:Downstairs Kitchen
END:VEVENT
BEGIN:VEVENT
DTSTART;TZID=America/New_York:20240204T100000
DTEND;TZID=America/New_York:20240204T110000
DTSTAMP:20260423T110439
CREATED:20240604T134035Z
LAST-MODIFIED:20240604T224838Z
UID:928-1707040800-1707044400@overbrookchurch.org
SUMMARY:Open Shelter Lunch Packing
DESCRIPTION:Help us pack a free to-go meal for the day center clients at The Open Shelter. We can always use a few more hands willing to make a sandwich\, bag cookies\, and fill lunch bags.
URL:https://overbrookchurch.org/event/open-shelter-lunch-packing/
CATEGORIES:Downstairs Kitchen
END:VEVENT
END:VCALENDAR