BEGIN:VCALENDAR
VERSION:2.0
PRODID:-//Overbrook Presbyterian Church - ECPv6.9.0//NONSGML v1.0//EN
CALSCALE:GREGORIAN
METHOD:PUBLISH
X-ORIGINAL-URL:https://overbrookchurch.org
X-WR-CALDESC:Events for Overbrook Presbyterian Church
REFRESH-INTERVAL;VALUE=DURATION:PT1H
X-Robots-Tag:noindex
X-PUBLISHED-TTL:PT1H
BEGIN:VTIMEZONE
TZID:America/New_York
BEGIN:DAYLIGHT
TZOFFSETFROM:-0500
TZOFFSETTO:-0400
TZNAME:EDT
DTSTART:20240310T070000
END:DAYLIGHT
BEGIN:STANDARD
TZOFFSETFROM:-0400
TZOFFSETTO:-0500
TZNAME:EST
DTSTART:20241103T060000
END:STANDARD
BEGIN:DAYLIGHT
TZOFFSETFROM:-0500
TZOFFSETTO:-0400
TZNAME:EDT
DTSTART:20250309T070000
END:DAYLIGHT
BEGIN:STANDARD
TZOFFSETFROM:-0400
TZOFFSETTO:-0500
TZNAME:EST
DTSTART:20251102T060000
END:STANDARD
END:VTIMEZONE
BEGIN:VEVENT
DTSTART;TZID=America/New_York:20250129T100000
DTEND;TZID=America/New_York:20250129T110000
DTSTAMP:20260425T062100
CREATED:20241204T014437Z
LAST-MODIFIED:20241204T014437Z
UID:3232-1738144800-1738148400@overbrookchurch.org
SUMMARY:Staff Meeting
DESCRIPTION:
URL:https://overbrookchurch.org/event/staff-meeting-51/
CATEGORIES:Conference Room
END:VEVENT
BEGIN:VEVENT
DTSTART;TZID=America/New_York:20250122T100000
DTEND;TZID=America/New_York:20250122T110000
DTSTAMP:20260425T062100
CREATED:20241204T013903Z
LAST-MODIFIED:20241204T013903Z
UID:3217-1737540000-1737543600@overbrookchurch.org
SUMMARY:Staff Meeting
DESCRIPTION:
URL:https://overbrookchurch.org/event/staff-meeting-50/
CATEGORIES:Conference Room
END:VEVENT
BEGIN:VEVENT
DTSTART;TZID=America/New_York:20250115T100000
DTEND;TZID=America/New_York:20250115T110000
DTSTAMP:20260425T062100
CREATED:20241204T013445Z
LAST-MODIFIED:20241204T013445Z
UID:3197-1736935200-1736938800@overbrookchurch.org
SUMMARY:Staff Meeting
DESCRIPTION:
URL:https://overbrookchurch.org/event/staff-meeting-49/
CATEGORIES:Conference Room
END:VEVENT
BEGIN:VEVENT
DTSTART;TZID=America/New_York:20250114T200000
DTEND;TZID=America/New_York:20250114T210000
DTSTAMP:20260425T062100
CREATED:20241204T013444Z
LAST-MODIFIED:20241204T013444Z
UID:3195-1736884800-1736888400@overbrookchurch.org
SUMMARY:Commission for Administration & Operations
DESCRIPTION:
URL:https://overbrookchurch.org/event/commission-for-administration-operations-13/
CATEGORIES:Conference Room
END:VEVENT
BEGIN:VEVENT
DTSTART;TZID=America/New_York:20250114T190000
DTEND;TZID=America/New_York:20250114T200000
DTSTAMP:20260425T062100
CREATED:20241204T013429Z
LAST-MODIFIED:20241204T013429Z
UID:3191-1736881200-1736884800@overbrookchurch.org
SUMMARY:Deacons
DESCRIPTION:
URL:https://overbrookchurch.org/event/deacons-13/
CATEGORIES:Conference Room
END:VEVENT
BEGIN:VEVENT
DTSTART;TZID=America/New_York:20250108T100000
DTEND;TZID=America/New_York:20250108T110000
DTSTAMP:20260425T062100
CREATED:20241204T013316Z
LAST-MODIFIED:20241204T013316Z
UID:3176-1736330400-1736334000@overbrookchurch.org
SUMMARY:Staff Meeting
DESCRIPTION:
URL:https://overbrookchurch.org/event/staff-meeting-48/
CATEGORIES:Conference Room
END:VEVENT
BEGIN:VEVENT
DTSTART;TZID=America/New_York:20250107T190000
DTEND;TZID=America/New_York:20250107T210000
DTSTAMP:20260425T062100
CREATED:20241204T013316Z
LAST-MODIFIED:20241204T013316Z
UID:3174-1736276400-1736283600@overbrookchurch.org
SUMMARY:Commission for Member Enrichment
DESCRIPTION:
URL:https://overbrookchurch.org/event/commission-for-member-enrichment-13/
CATEGORIES:Conference Room
END:VEVENT
BEGIN:VEVENT
DTSTART;TZID=America/New_York:20241218T100000
DTEND;TZID=America/New_York:20241218T110000
DTSTAMP:20260425T062100
CREATED:20240604T232138Z
LAST-MODIFIED:20240604T232138Z
UID:2328-1734516000-1734519600@overbrookchurch.org
SUMMARY:Staff Meeting
DESCRIPTION:
URL:https://overbrookchurch.org/event/staff-meeting-47/
CATEGORIES:Conference Room
END:VEVENT
BEGIN:VEVENT
DTSTART;TZID=America/New_York:20241211T100000
DTEND;TZID=America/New_York:20241211T110000
DTSTAMP:20260425T062100
CREATED:20240604T232122Z
LAST-MODIFIED:20240604T232122Z
UID:2327-1733911200-1733914800@overbrookchurch.org
SUMMARY:Staff Meeting
DESCRIPTION:
URL:https://overbrookchurch.org/event/staff-meeting-46/
CATEGORIES:Conference Room
END:VEVENT
BEGIN:VEVENT
DTSTART;TZID=America/New_York:20241210T200000
DTEND;TZID=America/New_York:20241210T210000
DTSTAMP:20260425T062100
CREATED:20240604T204939Z
LAST-MODIFIED:20240604T204939Z
UID:1863-1733860800-1733864400@overbrookchurch.org
SUMMARY:Commission for Administration & Operations
DESCRIPTION:
URL:https://overbrookchurch.org/event/commission-for-administration-operations-12/
CATEGORIES:Conference Room
END:VEVENT
BEGIN:VEVENT
DTSTART;TZID=America/New_York:20241204T100000
DTEND;TZID=America/New_York:20241204T110000
DTSTAMP:20260425T062100
CREATED:20240604T232122Z
LAST-MODIFIED:20240604T232122Z
UID:2326-1733306400-1733310000@overbrookchurch.org
SUMMARY:Staff Meeting
DESCRIPTION:
URL:https://overbrookchurch.org/event/staff-meeting-45/
CATEGORIES:Conference Room
END:VEVENT
BEGIN:VEVENT
DTSTART;TZID=America/New_York:20241203T190000
DTEND;TZID=America/New_York:20241203T210000
DTSTAMP:20260425T062100
CREATED:20240604T205943Z
LAST-MODIFIED:20240604T205943Z
UID:1883-1733252400-1733259600@overbrookchurch.org
SUMMARY:Commission for Member Enrichment
DESCRIPTION:
URL:https://overbrookchurch.org/event/commission-for-member-enrichment-12/
CATEGORIES:Conference Room
END:VEVENT
BEGIN:VEVENT
DTSTART;TZID=America/New_York:20241202T000000
DTEND;TZID=America/New_York:20241202T130000
DTSTAMP:20260425T062100
CREATED:20241204T013225Z
LAST-MODIFIED:20241204T013225Z
UID:3149-1733097600-1733144400@overbrookchurch.org
SUMMARY:Stewardship Team Meeting
DESCRIPTION:
URL:https://overbrookchurch.org/event/stewardship-team-meeting/
CATEGORIES:Conference Room
END:VEVENT
BEGIN:VEVENT
DTSTART;TZID=America/New_York:20241127T100000
DTEND;TZID=America/New_York:20241127T110000
DTSTAMP:20260425T062100
CREATED:20240604T232122Z
LAST-MODIFIED:20240604T232122Z
UID:2325-1732701600-1732705200@overbrookchurch.org
SUMMARY:Staff Meeting
DESCRIPTION:
URL:https://overbrookchurch.org/event/staff-meeting-44/
CATEGORIES:Conference Room
END:VEVENT
BEGIN:VEVENT
DTSTART;TZID=America/New_York:20241120T100000
DTEND;TZID=America/New_York:20241120T110000
DTSTAMP:20260425T062100
CREATED:20240604T232122Z
LAST-MODIFIED:20240604T232122Z
UID:2324-1732096800-1732100400@overbrookchurch.org
SUMMARY:Staff Meeting
DESCRIPTION:
URL:https://overbrookchurch.org/event/staff-meeting-43/
CATEGORIES:Conference Room
END:VEVENT
BEGIN:VEVENT
DTSTART;TZID=America/New_York:20241115T100000
DTEND;TZID=America/New_York:20241115T110000
DTSTAMP:20260425T062100
CREATED:20240604T230422Z
LAST-MODIFIED:20240604T230422Z
UID:2249-1731664800-1731668400@overbrookchurch.org
SUMMARY:Ryan Manczak
DESCRIPTION:
URL:https://overbrookchurch.org/event/ryan-manczak-11/
CATEGORIES:Conference Room
END:VEVENT
BEGIN:VEVENT
DTSTART;TZID=America/New_York:20241113T100000
DTEND;TZID=America/New_York:20241113T110000
DTSTAMP:20260425T062100
CREATED:20240604T232122Z
LAST-MODIFIED:20240604T232122Z
UID:2323-1731492000-1731495600@overbrookchurch.org
SUMMARY:Staff Meeting
DESCRIPTION:
URL:https://overbrookchurch.org/event/staff-meeting-42/
CATEGORIES:Conference Room
END:VEVENT
BEGIN:VEVENT
DTSTART;TZID=America/New_York:20241112T200000
DTEND;TZID=America/New_York:20241112T210000
DTSTAMP:20260425T062100
CREATED:20240604T204938Z
LAST-MODIFIED:20240604T204938Z
UID:1862-1731441600-1731445200@overbrookchurch.org
SUMMARY:Commission for Administration & Operations
DESCRIPTION:
URL:https://overbrookchurch.org/event/commission-for-administration-operations-11/
CATEGORIES:Conference Room
END:VEVENT
BEGIN:VEVENT
DTSTART;TZID=America/New_York:20241112T190000
DTEND;TZID=America/New_York:20241112T200000
DTSTAMP:20260425T062100
CREATED:20240604T212758Z
LAST-MODIFIED:20240604T212758Z
UID:1951-1731438000-1731441600@overbrookchurch.org
SUMMARY:Deacons
DESCRIPTION:
URL:https://overbrookchurch.org/event/deacons-11/
CATEGORIES:Conference Room
END:VEVENT
BEGIN:VEVENT
DTSTART;TZID=America/New_York:20241106T100000
DTEND;TZID=America/New_York:20241106T110000
DTSTAMP:20260425T062100
CREATED:20240604T232107Z
LAST-MODIFIED:20240604T232107Z
UID:2322-1730887200-1730890800@overbrookchurch.org
SUMMARY:Staff Meeting
DESCRIPTION:
URL:https://overbrookchurch.org/event/staff-meeting-41/
CATEGORIES:Conference Room
END:VEVENT
BEGIN:VEVENT
DTSTART;TZID=America/New_York:20241105T190000
DTEND;TZID=America/New_York:20241105T210000
DTSTAMP:20260425T062100
CREATED:20240604T205742Z
LAST-MODIFIED:20240604T205742Z
UID:1882-1730833200-1730840400@overbrookchurch.org
SUMMARY:Commission for Member Enrichment
DESCRIPTION:
URL:https://overbrookchurch.org/event/commission-for-member-enrichment-11/
CATEGORIES:Conference Room
END:VEVENT
BEGIN:VEVENT
DTSTART;TZID=America/New_York:20241030T100000
DTEND;TZID=America/New_York:20241030T110000
DTSTAMP:20260425T062100
CREATED:20240604T232107Z
LAST-MODIFIED:20240604T232107Z
UID:2321-1730282400-1730286000@overbrookchurch.org
SUMMARY:Staff Meeting
DESCRIPTION:
URL:https://overbrookchurch.org/event/staff-meeting-40/
CATEGORIES:Conference Room
END:VEVENT
BEGIN:VEVENT
DTSTART;TZID=America/New_York:20241023T100000
DTEND;TZID=America/New_York:20241023T110000
DTSTAMP:20260425T062100
CREATED:20240604T232107Z
LAST-MODIFIED:20240604T232107Z
UID:2320-1729677600-1729681200@overbrookchurch.org
SUMMARY:Staff Meeting
DESCRIPTION:
URL:https://overbrookchurch.org/event/staff-meeting-39/
CATEGORIES:Conference Room
END:VEVENT
BEGIN:VEVENT
DTSTART;TZID=America/New_York:20241018T100000
DTEND;TZID=America/New_York:20241018T110000
DTSTAMP:20260425T062100
CREATED:20240604T230422Z
LAST-MODIFIED:20240604T230422Z
UID:2248-1729245600-1729249200@overbrookchurch.org
SUMMARY:Ryan Manczak
DESCRIPTION:
URL:https://overbrookchurch.org/event/ryan-manczak-10/
CATEGORIES:Conference Room
END:VEVENT
BEGIN:VEVENT
DTSTART;TZID=America/New_York:20241016T100000
DTEND;TZID=America/New_York:20241016T110000
DTSTAMP:20260425T062100
CREATED:20240604T232107Z
LAST-MODIFIED:20240604T232107Z
UID:2319-1729072800-1729076400@overbrookchurch.org
SUMMARY:Staff Meeting
DESCRIPTION:
URL:https://overbrookchurch.org/event/staff-meeting-38/
CATEGORIES:Conference Room
END:VEVENT
BEGIN:VEVENT
DTSTART;TZID=America/New_York:20241009T100000
DTEND;TZID=America/New_York:20241009T110000
DTSTAMP:20260425T062100
CREATED:20240604T152016Z
LAST-MODIFIED:20240604T232107Z
UID:1632-1728468000-1728471600@overbrookchurch.org
SUMMARY:Staff Meeting
DESCRIPTION:
URL:https://overbrookchurch.org/event/staff-meeting-37/
CATEGORIES:Conference Room
END:VEVENT
BEGIN:VEVENT
DTSTART;TZID=America/New_York:20241008T200000
DTEND;TZID=America/New_York:20241008T210000
DTSTAMP:20260425T062100
CREATED:20240604T152016Z
LAST-MODIFIED:20240604T204738Z
UID:1631-1728417600-1728421200@overbrookchurch.org
SUMMARY:Commission for Administration & Operations
DESCRIPTION:
URL:https://overbrookchurch.org/event/commission-for-administration-operations-10/
CATEGORIES:Conference Room
END:VEVENT
BEGIN:VEVENT
DTSTART;TZID=America/New_York:20241008T190000
DTEND;TZID=America/New_York:20241008T200000
DTSTAMP:20260425T062100
CREATED:20240604T152009Z
LAST-MODIFIED:20240604T212758Z
UID:1627-1728414000-1728417600@overbrookchurch.org
SUMMARY:Deacons
DESCRIPTION:
URL:https://overbrookchurch.org/event/deacons-10/
CATEGORIES:Conference Room
END:VEVENT
BEGIN:VEVENT
DTSTART;TZID=America/New_York:20241002T100000
DTEND;TZID=America/New_York:20241002T110000
DTSTAMP:20260425T062100
CREATED:20240604T151952Z
LAST-MODIFIED:20240604T232056Z
UID:1607-1727863200-1727866800@overbrookchurch.org
SUMMARY:Staff Meeting
DESCRIPTION:
URL:https://overbrookchurch.org/event/staff-meeting-36/
CATEGORIES:Conference Room
END:VEVENT
BEGIN:VEVENT
DTSTART;TZID=America/New_York:20241001T190000
DTEND;TZID=America/New_York:20241001T210000
DTSTAMP:20260425T062100
CREATED:20240604T151951Z
LAST-MODIFIED:20240604T205742Z
UID:1605-1727809200-1727816400@overbrookchurch.org
SUMMARY:Commission for Member Enrichment
DESCRIPTION:
URL:https://overbrookchurch.org/event/commission-for-member-enrichment-10/
CATEGORIES:Conference Room
END:VEVENT
END:VCALENDAR