BEGIN:VCALENDAR
VERSION:2.0
PRODID:-//Overbrook Presbyterian Church - ECPv6.9.0//NONSGML v1.0//EN
CALSCALE:GREGORIAN
METHOD:PUBLISH
X-WR-CALNAME:Overbrook Presbyterian Church
X-ORIGINAL-URL:https://overbrookchurch.org
X-WR-CALDESC:Events for Overbrook Presbyterian Church
REFRESH-INTERVAL;VALUE=DURATION:PT1H
X-Robots-Tag:noindex
X-PUBLISHED-TTL:PT1H
BEGIN:VTIMEZONE
TZID:America/New_York
BEGIN:DAYLIGHT
TZOFFSETFROM:-0500
TZOFFSETTO:-0400
TZNAME:EDT
DTSTART:20260308T070000
END:DAYLIGHT
BEGIN:STANDARD
TZOFFSETFROM:-0400
TZOFFSETTO:-0500
TZNAME:EST
DTSTART:20261101T060000
END:STANDARD
END:VTIMEZONE
BEGIN:VEVENT
DTSTART;TZID=America/New_York:20260419T090000
DTEND;TZID=America/New_York:20260419T100000
DTSTAMP:20260425T102903
CREATED:20260319T141009Z
LAST-MODIFIED:20260319T141009Z
UID:4892-1776589200-1776592800@overbrookchurch.org
SUMMARY:Contemporary Worship Service
DESCRIPTION:
URL:https://overbrookchurch.org/event/contemporary-worship-service-107/
END:VEVENT
BEGIN:VEVENT
DTSTART;TZID=America/New_York:20260419T100000
DTEND;TZID=America/New_York:20260419T110000
DTSTAMP:20260425T102903
CREATED:20260319T141009Z
LAST-MODIFIED:20260319T141009Z
UID:4893-1776592800-1776596400@overbrookchurch.org
SUMMARY:Fellowship Hour
DESCRIPTION:
URL:https://overbrookchurch.org/event/fellowship-hour-101/
END:VEVENT
BEGIN:VEVENT
DTSTART;TZID=America/New_York:20260419T110000
DTEND;TZID=America/New_York:20260419T120000
DTSTAMP:20260425T102903
CREATED:20260319T141009Z
LAST-MODIFIED:20260319T141009Z
UID:4894-1776596400-1776600000@overbrookchurch.org
SUMMARY:Traditional Worship Service
DESCRIPTION:
URL:https://overbrookchurch.org/event/traditional-worship-service-95/
END:VEVENT
BEGIN:VEVENT
DTSTART;TZID=America/New_York:20260419T121500
DTEND;TZID=America/New_York:20260419T131500
DTSTAMP:20260425T102903
CREATED:20260319T141009Z
LAST-MODIFIED:20260319T141009Z
UID:4895-1776600900-1776604500@overbrookchurch.org
SUMMARY:Chancel Chimes
DESCRIPTION:
URL:https://overbrookchurch.org/event/chancel-chimes-52/
END:VEVENT
BEGIN:VEVENT
DTSTART;TZID=America/New_York:20260419T173000
DTEND;TZID=America/New_York:20260419T193000
DTSTAMP:20260425T102903
CREATED:20260319T141024Z
LAST-MODIFIED:20260319T141024Z
UID:4896-1776619800-1776627000@overbrookchurch.org
SUMMARY:Club 35  (Third-Fifth Grade)
DESCRIPTION:
URL:https://overbrookchurch.org/event/club-35-third-fifth-grade-4/
END:VEVENT
BEGIN:VEVENT
DTSTART;TZID=America/New_York:20260419T173000
DTEND;TZID=America/New_York:20260419T193000
DTSTAMP:20260425T102903
CREATED:20260319T141024Z
LAST-MODIFIED:20260319T141024Z
UID:4897-1776619800-1776627000@overbrookchurch.org
SUMMARY:Youth Fellowship
DESCRIPTION:
URL:https://overbrookchurch.org/event/youth-fellowship-64/
END:VEVENT
END:VCALENDAR