BEGIN:VCALENDAR
VERSION:2.0
PRODID:-//Overbrook Presbyterian Church - ECPv6.9.0//NONSGML v1.0//EN
CALSCALE:GREGORIAN
METHOD:PUBLISH
X-ORIGINAL-URL:https://overbrookchurch.org
X-WR-CALDESC:Events for Overbrook Presbyterian Church
REFRESH-INTERVAL;VALUE=DURATION:PT1H
X-Robots-Tag:noindex
X-PUBLISHED-TTL:PT1H
BEGIN:VTIMEZONE
TZID:America/New_York
BEGIN:DAYLIGHT
TZOFFSETFROM:-0500
TZOFFSETTO:-0400
TZNAME:EDT
DTSTART:20260308T070000
END:DAYLIGHT
BEGIN:STANDARD
TZOFFSETFROM:-0400
TZOFFSETTO:-0500
TZNAME:EST
DTSTART:20261101T060000
END:STANDARD
END:VTIMEZONE
BEGIN:VEVENT
DTSTART;TZID=America/New_York:20260407T190000
DTEND;TZID=America/New_York:20260407T203000
DTSTAMP:20260423T054547
CREATED:20260319T140721Z
LAST-MODIFIED:20260319T140721Z
UID:4863-1775588400-1775593800@overbrookchurch.org
SUMMARY:John Beltz Retreat Center  Team
DESCRIPTION:
URL:https://overbrookchurch.org/event/john-beltz-retreat-center-team-28/
END:VEVENT
BEGIN:VEVENT
DTSTART;TZID=America/New_York:20260407T190000
DTEND;TZID=America/New_York:20260407T210000
DTSTAMP:20260423T054547
CREATED:20260319T140721Z
LAST-MODIFIED:20260319T140721Z
UID:4862-1775588400-1775595600@overbrookchurch.org
SUMMARY:Commission for Member Enrichment
DESCRIPTION:
URL:https://overbrookchurch.org/event/commission-for-member-enrichment-28/
END:VEVENT
END:VCALENDAR