BEGIN:VCALENDAR
VERSION:2.0
PRODID:-//Overbrook Presbyterian Church - ECPv6.9.0//NONSGML v1.0//EN
CALSCALE:GREGORIAN
METHOD:PUBLISH
X-ORIGINAL-URL:https://overbrookchurch.org
X-WR-CALDESC:Events for Overbrook Presbyterian Church
REFRESH-INTERVAL;VALUE=DURATION:PT1H
X-Robots-Tag:noindex
X-PUBLISHED-TTL:PT1H
BEGIN:VTIMEZONE
TZID:America/New_York
BEGIN:DAYLIGHT
TZOFFSETFROM:-0500
TZOFFSETTO:-0400
TZNAME:EDT
DTSTART:20260308T070000
END:DAYLIGHT
BEGIN:STANDARD
TZOFFSETFROM:-0400
TZOFFSETTO:-0500
TZNAME:EST
DTSTART:20261101T060000
END:STANDARD
END:VTIMEZONE
BEGIN:VEVENT
DTSTART;TZID=America/New_York:20260405T000000
DTEND;TZID=America/New_York:20260405T235900
DTSTAMP:20260425T063357
CREATED:20260319T140553Z
LAST-MODIFIED:20260319T140554Z
UID:4849-1775347200-1775433540@overbrookchurch.org
SUMMARY:Easter
DESCRIPTION:
URL:https://overbrookchurch.org/event/easter-2/
END:VEVENT
BEGIN:VEVENT
DTSTART;TZID=America/New_York:20260405T000000
DTEND;TZID=America/New_York:20260405T235900
DTSTAMP:20260425T063357
CREATED:20260319T140553Z
LAST-MODIFIED:20260319T140554Z
UID:4850-1775347200-1775433540@overbrookchurch.org
SUMMARY:Food Sunday/Mission Sunday
DESCRIPTION:
URL:https://overbrookchurch.org/event/food-sunday-mission-sunday-2/
END:VEVENT
BEGIN:VEVENT
DTSTART;TZID=America/New_York:20260405T090000
DTEND;TZID=America/New_York:20260405T100000
DTSTAMP:20260425T063357
CREATED:20260319T140608Z
LAST-MODIFIED:20260319T140608Z
UID:4856-1775379600-1775383200@overbrookchurch.org
SUMMARY:Contemporary Worship Service
DESCRIPTION:
URL:https://overbrookchurch.org/event/contemporary-worship-service-105/
END:VEVENT
BEGIN:VEVENT
DTSTART;TZID=America/New_York:20260405T100000
DTEND;TZID=America/New_York:20260405T110000
DTSTAMP:20260425T063357
CREATED:20260319T140608Z
LAST-MODIFIED:20260319T140608Z
UID:4857-1775383200-1775386800@overbrookchurch.org
SUMMARY:Easter Brunch
DESCRIPTION:
URL:https://overbrookchurch.org/event/easter-brunch-3/
END:VEVENT
BEGIN:VEVENT
DTSTART;TZID=America/New_York:20260405T110000
DTEND;TZID=America/New_York:20260405T120000
DTSTAMP:20260425T063357
CREATED:20260319T140608Z
LAST-MODIFIED:20260319T140608Z
UID:4859-1775386800-1775390400@overbrookchurch.org
SUMMARY:Traditional Worship Service
DESCRIPTION:
URL:https://overbrookchurch.org/event/traditional-worship-service-93/
END:VEVENT
END:VCALENDAR