BEGIN:VCALENDAR
VERSION:2.0
PRODID:-//Overbrook Presbyterian Church - ECPv6.9.0//NONSGML v1.0//EN
CALSCALE:GREGORIAN
METHOD:PUBLISH
X-ORIGINAL-URL:https://overbrookchurch.org
X-WR-CALDESC:Events for Overbrook Presbyterian Church
REFRESH-INTERVAL;VALUE=DURATION:PT1H
X-Robots-Tag:noindex
X-PUBLISHED-TTL:PT1H
BEGIN:VTIMEZONE
TZID:America/New_York
BEGIN:DAYLIGHT
TZOFFSETFROM:-0500
TZOFFSETTO:-0400
TZNAME:EDT
DTSTART:20260308T070000
END:DAYLIGHT
BEGIN:STANDARD
TZOFFSETFROM:-0400
TZOFFSETTO:-0500
TZNAME:EST
DTSTART:20261101T060000
END:STANDARD
END:VTIMEZONE
BEGIN:VEVENT
DTSTART;TZID=America/New_York:20260404T090000
DTEND;TZID=America/New_York:20260404T110000
DTSTAMP:20260423T054516
CREATED:20260319T140553Z
LAST-MODIFIED:20260319T140553Z
UID:4847-1775293200-1775300400@overbrookchurch.org
SUMMARY:Alcoholics Anonymous Early Bird
DESCRIPTION:
URL:https://overbrookchurch.org/event/alcoholics-anonymous-early-bird-158/
END:VEVENT
BEGIN:VEVENT
DTSTART;TZID=America/New_York:20260404T090000
DTEND;TZID=America/New_York:20260404T110000
DTSTAMP:20260423T054516
CREATED:20260319T140553Z
LAST-MODIFIED:20260319T140554Z
UID:4848-1775293200-1775300400@overbrookchurch.org
SUMMARY:Alcoholics Anonymous HOW
DESCRIPTION:
URL:https://overbrookchurch.org/event/alcoholics-anonymous-how-153/
END:VEVENT
BEGIN:VEVENT
DTSTART;TZID=America/New_York:20260404T130000
DTEND;TZID=America/New_York:20260404T140000
DTSTAMP:20260423T054516
CREATED:20260319T140608Z
LAST-MODIFIED:20260401T175314Z
UID:4858-1775307600-1775311200@overbrookchurch.org
SUMMARY:Open Shelter Lunch Packing
DESCRIPTION:
URL:https://overbrookchurch.org/event/open-shelter-lunch-packing-32/
END:VEVENT
END:VCALENDAR