BEGIN:VCALENDAR
VERSION:2.0
PRODID:-//Overbrook Presbyterian Church - ECPv6.9.0//NONSGML v1.0//EN
CALSCALE:GREGORIAN
METHOD:PUBLISH
X-ORIGINAL-URL:https://overbrookchurch.org
X-WR-CALDESC:Events for Overbrook Presbyterian Church
REFRESH-INTERVAL;VALUE=DURATION:PT1H
X-Robots-Tag:noindex
X-PUBLISHED-TTL:PT1H
BEGIN:VTIMEZONE
TZID:America/New_York
BEGIN:DAYLIGHT
TZOFFSETFROM:-0500
TZOFFSETTO:-0400
TZNAME:EDT
DTSTART:20260308T070000
END:DAYLIGHT
BEGIN:STANDARD
TZOFFSETFROM:-0400
TZOFFSETTO:-0500
TZNAME:EST
DTSTART:20261101T060000
END:STANDARD
END:VTIMEZONE
BEGIN:VEVENT
DTSTART;TZID=America/New_York:20260330T180000
DTEND;TZID=America/New_York:20260330T190000
DTSTAMP:20260423T060135
CREATED:20260216T153909Z
LAST-MODIFIED:20260216T153909Z
UID:4829-1774893600-1774897200@overbrookchurch.org
SUMMARY:Overbrook Belles
DESCRIPTION:
URL:https://overbrookchurch.org/event/overbrook-belles-28/
END:VEVENT
BEGIN:VEVENT
DTSTART;TZID=America/New_York:20260330T180000
DTEND;TZID=America/New_York:20260330T200000
DTSTAMP:20260423T060135
CREATED:20260216T153908Z
LAST-MODIFIED:20260216T153908Z
UID:4828-1774893600-1774900800@overbrookchurch.org
SUMMARY:Scouts
DESCRIPTION:
URL:https://overbrookchurch.org/event/scouts-72/
END:VEVENT
END:VCALENDAR