BEGIN:VCALENDAR
VERSION:2.0
PRODID:-//Overbrook Presbyterian Church - ECPv6.9.0//NONSGML v1.0//EN
CALSCALE:GREGORIAN
METHOD:PUBLISH
X-WR-CALNAME:Overbrook Presbyterian Church
X-ORIGINAL-URL:https://overbrookchurch.org
X-WR-CALDESC:Events for Overbrook Presbyterian Church
REFRESH-INTERVAL;VALUE=DURATION:PT1H
X-Robots-Tag:noindex
X-PUBLISHED-TTL:PT1H
BEGIN:VTIMEZONE
TZID:America/New_York
BEGIN:DAYLIGHT
TZOFFSETFROM:-0500
TZOFFSETTO:-0400
TZNAME:EDT
DTSTART:20260308T070000
END:DAYLIGHT
BEGIN:STANDARD
TZOFFSETFROM:-0400
TZOFFSETTO:-0500
TZNAME:EST
DTSTART:20261101T060000
END:STANDARD
END:VTIMEZONE
BEGIN:VEVENT
DTSTART;TZID=America/New_York:20260329T090000
DTEND;TZID=America/New_York:20260329T100000
DTSTAMP:20260423T055947
CREATED:20260216T153853Z
LAST-MODIFIED:20260216T153853Z
UID:4823-1774774800-1774778400@overbrookchurch.org
SUMMARY:Contemporary Worship Service
DESCRIPTION:
URL:https://overbrookchurch.org/event/contemporary-worship-service-104/
END:VEVENT
BEGIN:VEVENT
DTSTART;TZID=America/New_York:20260329T100000
DTEND;TZID=America/New_York:20260329T110000
DTSTAMP:20260423T055947
CREATED:20260216T153854Z
LAST-MODIFIED:20260216T153854Z
UID:4824-1774778400-1774782000@overbrookchurch.org
SUMMARY:Fellowship Hour
DESCRIPTION:
URL:https://overbrookchurch.org/event/fellowship-hour-99/
END:VEVENT
BEGIN:VEVENT
DTSTART;TZID=America/New_York:20260329T110000
DTEND;TZID=America/New_York:20260329T120000
DTSTAMP:20260423T055947
CREATED:20260216T153854Z
LAST-MODIFIED:20260216T153854Z
UID:4825-1774782000-1774785600@overbrookchurch.org
SUMMARY:Traditional Worship Service
DESCRIPTION:
URL:https://overbrookchurch.org/event/traditional-worship-service-92/
END:VEVENT
BEGIN:VEVENT
DTSTART;TZID=America/New_York:20260329T121500
DTEND;TZID=America/New_York:20260329T131500
DTSTAMP:20260423T055947
CREATED:20260216T153908Z
LAST-MODIFIED:20260216T153908Z
UID:4826-1774786500-1774790100@overbrookchurch.org
SUMMARY:Chancel Chimes
DESCRIPTION:
URL:https://overbrookchurch.org/event/chancel-chimes-50/
END:VEVENT
BEGIN:VEVENT
DTSTART;TZID=America/New_York:20260329T173000
DTEND;TZID=America/New_York:20260329T193000
DTSTAMP:20260423T055947
CREATED:20260216T153908Z
LAST-MODIFIED:20260216T153908Z
UID:4827-1774805400-1774812600@overbrookchurch.org
SUMMARY:Youth Fellowship
DESCRIPTION:
URL:https://overbrookchurch.org/event/youth-fellowship-62/
END:VEVENT
END:VCALENDAR