BEGIN:VCALENDAR
VERSION:2.0
PRODID:-//Overbrook Presbyterian Church - ECPv6.9.0//NONSGML v1.0//EN
CALSCALE:GREGORIAN
METHOD:PUBLISH
X-WR-CALNAME:Overbrook Presbyterian Church
X-ORIGINAL-URL:https://overbrookchurch.org
X-WR-CALDESC:Events for Overbrook Presbyterian Church
REFRESH-INTERVAL;VALUE=DURATION:PT1H
X-Robots-Tag:noindex
X-PUBLISHED-TTL:PT1H
BEGIN:VTIMEZONE
TZID:America/New_York
BEGIN:DAYLIGHT
TZOFFSETFROM:-0500
TZOFFSETTO:-0400
TZNAME:EDT
DTSTART:20260308T070000
END:DAYLIGHT
BEGIN:STANDARD
TZOFFSETFROM:-0400
TZOFFSETTO:-0500
TZNAME:EST
DTSTART:20261101T060000
END:STANDARD
END:VTIMEZONE
BEGIN:VEVENT
DTSTART;TZID=America/New_York:20260316T180000
DTEND;TZID=America/New_York:20260316T190000
DTSTAMP:20260423T101156
CREATED:20260216T153738Z
LAST-MODIFIED:20260216T153738Z
UID:4796-1773684000-1773687600@overbrookchurch.org
SUMMARY:Overbrook Belles
DESCRIPTION:
URL:https://overbrookchurch.org/event/overbrook-belles-26/
END:VEVENT
BEGIN:VEVENT
DTSTART;TZID=America/New_York:20260316T180000
DTEND;TZID=America/New_York:20260316T200000
DTSTAMP:20260423T101156
CREATED:20260216T153724Z
LAST-MODIFIED:20260216T153724Z
UID:4795-1773684000-1773691200@overbrookchurch.org
SUMMARY:Scouts
DESCRIPTION:
URL:https://overbrookchurch.org/event/scouts-70/
END:VEVENT
END:VCALENDAR