BEGIN:VCALENDAR
VERSION:2.0
PRODID:-//Overbrook Presbyterian Church - ECPv6.9.0//NONSGML v1.0//EN
CALSCALE:GREGORIAN
METHOD:PUBLISH
X-WR-CALNAME:Overbrook Presbyterian Church
X-ORIGINAL-URL:https://overbrookchurch.org
X-WR-CALDESC:Events for Overbrook Presbyterian Church
REFRESH-INTERVAL;VALUE=DURATION:PT1H
X-Robots-Tag:noindex
X-PUBLISHED-TTL:PT1H
BEGIN:VTIMEZONE
TZID:America/New_York
BEGIN:DAYLIGHT
TZOFFSETFROM:-0500
TZOFFSETTO:-0400
TZNAME:EDT
DTSTART:20260308T070000
END:DAYLIGHT
BEGIN:STANDARD
TZOFFSETFROM:-0400
TZOFFSETTO:-0500
TZNAME:EST
DTSTART:20261101T060000
END:STANDARD
END:VTIMEZONE
BEGIN:VEVENT
DTSTART;TZID=America/New_York:20260225T093000
DTEND;TZID=America/New_York:20260225T110000
DTSTAMP:20260423T102028
CREATED:20260116T175432Z
LAST-MODIFIED:20260116T175432Z
UID:4689-1772011800-1772017200@overbrookchurch.org
SUMMARY:Mothersingers
DESCRIPTION:
URL:https://overbrookchurch.org/event/mothersingers-37/
END:VEVENT
BEGIN:VEVENT
DTSTART;TZID=America/New_York:20260225T100000
DTEND;TZID=America/New_York:20260225T110000
DTSTAMP:20260423T102028
CREATED:20260116T175432Z
LAST-MODIFIED:20260116T175432Z
UID:4690-1772013600-1772017200@overbrookchurch.org
SUMMARY:Staff Meeting
DESCRIPTION:
URL:https://overbrookchurch.org/event/staff-meeting-104/
END:VEVENT
BEGIN:VEVENT
DTSTART;TZID=America/New_York:20260225T183000
DTEND;TZID=America/New_York:20260225T203000
DTSTAMP:20260423T102028
CREATED:20260116T175432Z
LAST-MODIFIED:20260116T175432Z
UID:4691-1772044200-1772051400@overbrookchurch.org
SUMMARY:Social Justice Discussion Group
DESCRIPTION:
URL:https://overbrookchurch.org/event/social-justice-discussion-group-15/
END:VEVENT
END:VCALENDAR