BEGIN:VCALENDAR
VERSION:2.0
PRODID:-//Overbrook Presbyterian Church - ECPv6.9.0//NONSGML v1.0//EN
CALSCALE:GREGORIAN
METHOD:PUBLISH
X-ORIGINAL-URL:https://overbrookchurch.org
X-WR-CALDESC:Events for Overbrook Presbyterian Church
REFRESH-INTERVAL;VALUE=DURATION:PT1H
X-Robots-Tag:noindex
X-PUBLISHED-TTL:PT1H
BEGIN:VTIMEZONE
TZID:America/New_York
BEGIN:DAYLIGHT
TZOFFSETFROM:-0500
TZOFFSETTO:-0400
TZNAME:EDT
DTSTART:20260308T070000
END:DAYLIGHT
BEGIN:STANDARD
TZOFFSETFROM:-0400
TZOFFSETTO:-0500
TZNAME:EST
DTSTART:20261101T060000
END:STANDARD
END:VTIMEZONE
BEGIN:VEVENT
DTSTART;TZID=America/New_York:20260222T090000
DTEND;TZID=America/New_York:20260222T100000
DTSTAMP:20260423T090532
CREATED:20260116T175403Z
LAST-MODIFIED:20260116T175403Z
UID:4680-1771750800-1771754400@overbrookchurch.org
SUMMARY:Contemporary Worship Service
DESCRIPTION:
URL:https://overbrookchurch.org/event/contemporary-worship-service-99/
END:VEVENT
BEGIN:VEVENT
DTSTART;TZID=America/New_York:20260222T100000
DTEND;TZID=America/New_York:20260222T110000
DTSTAMP:20260423T090532
CREATED:20260116T175403Z
LAST-MODIFIED:20260116T175403Z
UID:4681-1771754400-1771758000@overbrookchurch.org
SUMMARY:Fellowship Hour
DESCRIPTION:
URL:https://overbrookchurch.org/event/fellowship-hour-94/
END:VEVENT
BEGIN:VEVENT
DTSTART;TZID=America/New_York:20260222T110000
DTEND;TZID=America/New_York:20260222T120000
DTSTAMP:20260423T090532
CREATED:20260116T175404Z
LAST-MODIFIED:20260116T175404Z
UID:4682-1771758000-1771761600@overbrookchurch.org
SUMMARY:Traditional Worship Service
DESCRIPTION:
URL:https://overbrookchurch.org/event/traditional-worship-service-87/
END:VEVENT
BEGIN:VEVENT
DTSTART;TZID=America/New_York:20260222T121500
DTEND;TZID=America/New_York:20260222T131500
DTSTAMP:20260423T090532
CREATED:20260116T175404Z
LAST-MODIFIED:20260116T175404Z
UID:4683-1771762500-1771766100@overbrookchurch.org
SUMMARY:Chancel Chimes
DESCRIPTION:
URL:https://overbrookchurch.org/event/chancel-chimes-45/
END:VEVENT
BEGIN:VEVENT
DTSTART;TZID=America/New_York:20260222T123000
DTEND;TZID=America/New_York:20260222T160000
DTSTAMP:20260423T090532
CREATED:20260116T175417Z
LAST-MODIFIED:20260116T175417Z
UID:4684-1771763400-1771776000@overbrookchurch.org
SUMMARY:Girl Scout Fellowship Festival
DESCRIPTION:
URL:https://overbrookchurch.org/event/girl-scout-fellowship-festival/
END:VEVENT
BEGIN:VEVENT
DTSTART;TZID=America/New_York:20260222T173000
DTEND;TZID=America/New_York:20260222T193000
DTSTAMP:20260423T090532
CREATED:20260116T175417Z
LAST-MODIFIED:20260116T175417Z
UID:4685-1771781400-1771788600@overbrookchurch.org
SUMMARY:Youth Fellowship
DESCRIPTION:
URL:https://overbrookchurch.org/event/youth-fellowship-57/
END:VEVENT
END:VCALENDAR