BEGIN:VCALENDAR
VERSION:2.0
PRODID:-//Overbrook Presbyterian Church - ECPv6.9.0//NONSGML v1.0//EN
CALSCALE:GREGORIAN
METHOD:PUBLISH
X-ORIGINAL-URL:https://overbrookchurch.org
X-WR-CALDESC:Events for Overbrook Presbyterian Church
REFRESH-INTERVAL;VALUE=DURATION:PT1H
X-Robots-Tag:noindex
X-PUBLISHED-TTL:PT1H
BEGIN:VTIMEZONE
TZID:America/New_York
BEGIN:DAYLIGHT
TZOFFSETFROM:-0500
TZOFFSETTO:-0400
TZNAME:EDT
DTSTART:20260308T070000
END:DAYLIGHT
BEGIN:STANDARD
TZOFFSETFROM:-0400
TZOFFSETTO:-0500
TZNAME:EST
DTSTART:20261101T060000
END:STANDARD
END:VTIMEZONE
BEGIN:VEVENT
DTSTART;TZID=America/New_York:20260215T090000
DTEND;TZID=America/New_York:20260215T100000
DTSTAMP:20260423T103311
CREATED:20260116T175302Z
LAST-MODIFIED:20260116T175302Z
UID:4659-1771146000-1771149600@overbrookchurch.org
SUMMARY:Contemporary Worship Service
DESCRIPTION:
URL:https://overbrookchurch.org/event/contemporary-worship-service-98/
END:VEVENT
BEGIN:VEVENT
DTSTART;TZID=America/New_York:20260215T100000
DTEND;TZID=America/New_York:20260215T110000
DTSTAMP:20260423T103311
CREATED:20260116T175302Z
LAST-MODIFIED:20260116T175302Z
UID:4660-1771149600-1771153200@overbrookchurch.org
SUMMARY:Fellowship Hour
DESCRIPTION:
URL:https://overbrookchurch.org/event/fellowship-hour-93/
END:VEVENT
BEGIN:VEVENT
DTSTART;TZID=America/New_York:20260215T103000
DTEND;TZID=America/New_York:20260215T110000
DTSTAMP:20260423T103311
CREATED:20260116T175303Z
LAST-MODIFIED:20260116T175303Z
UID:4661-1771151400-1771153200@overbrookchurch.org
SUMMARY:Annual Meeting
DESCRIPTION:
URL:https://overbrookchurch.org/event/annual-meeting/
END:VEVENT
BEGIN:VEVENT
DTSTART;TZID=America/New_York:20260215T110000
DTEND;TZID=America/New_York:20260215T120000
DTSTAMP:20260423T103311
CREATED:20260116T175303Z
LAST-MODIFIED:20260116T175303Z
UID:4662-1771153200-1771156800@overbrookchurch.org
SUMMARY:Traditional Worship Service
DESCRIPTION:
URL:https://overbrookchurch.org/event/traditional-worship-service-86/
END:VEVENT
BEGIN:VEVENT
DTSTART;TZID=America/New_York:20260215T121500
DTEND;TZID=America/New_York:20260215T131500
DTSTAMP:20260423T103311
CREATED:20260116T175303Z
LAST-MODIFIED:20260116T175303Z
UID:4663-1771157700-1771161300@overbrookchurch.org
SUMMARY:Chancel Chimes
DESCRIPTION:
URL:https://overbrookchurch.org/event/chancel-chimes-44/
END:VEVENT
BEGIN:VEVENT
DTSTART;TZID=America/New_York:20260215T150000
DTEND;TZID=America/New_York:20260215T170000
DTSTAMP:20260423T103311
CREATED:20260116T175317Z
LAST-MODIFIED:20260116T175317Z
UID:4664-1771167600-1771174800@overbrookchurch.org
SUMMARY:A Musical Offering
DESCRIPTION:
URL:https://overbrookchurch.org/event/a-musical-offering-4/
END:VEVENT
BEGIN:VEVENT
DTSTART;TZID=America/New_York:20260215T170000
DTEND;TZID=America/New_York:20260215T190000
DTSTAMP:20260423T103311
CREATED:20260116T175317Z
LAST-MODIFIED:20260116T175317Z
UID:4665-1771174800-1771182000@overbrookchurch.org
SUMMARY:Pancake Supper
DESCRIPTION:
URL:https://overbrookchurch.org/event/pancake-supper-2/
END:VEVENT
BEGIN:VEVENT
DTSTART;TZID=America/New_York:20260215T173000
DTEND;TZID=America/New_York:20260215T193000
DTSTAMP:20260423T103311
CREATED:20260116T175317Z
LAST-MODIFIED:20260116T175317Z
UID:4666-1771176600-1771183800@overbrookchurch.org
SUMMARY:Club 35 (Third-Fifth Grade)
DESCRIPTION:
URL:https://overbrookchurch.org/event/club-35-third-fifth-grade-2/
END:VEVENT
BEGIN:VEVENT
DTSTART;TZID=America/New_York:20260215T173000
DTEND;TZID=America/New_York:20260215T193000
DTSTAMP:20260423T103311
CREATED:20260116T175317Z
LAST-MODIFIED:20260116T175317Z
UID:4667-1771176600-1771183800@overbrookchurch.org
SUMMARY:Youth Fellowship
DESCRIPTION:
URL:https://overbrookchurch.org/event/youth-fellowship-56/
END:VEVENT
END:VCALENDAR