BEGIN:VCALENDAR
VERSION:2.0
PRODID:-//Overbrook Presbyterian Church - ECPv6.9.0//NONSGML v1.0//EN
CALSCALE:GREGORIAN
METHOD:PUBLISH
X-ORIGINAL-URL:https://overbrookchurch.org
X-WR-CALDESC:Events for Overbrook Presbyterian Church
REFRESH-INTERVAL;VALUE=DURATION:PT1H
X-Robots-Tag:noindex
X-PUBLISHED-TTL:PT1H
BEGIN:VTIMEZONE
TZID:America/New_York
BEGIN:DAYLIGHT
TZOFFSETFROM:-0500
TZOFFSETTO:-0400
TZNAME:EDT
DTSTART:20260308T070000
END:DAYLIGHT
BEGIN:STANDARD
TZOFFSETFROM:-0400
TZOFFSETTO:-0500
TZNAME:EST
DTSTART:20261101T060000
END:STANDARD
END:VTIMEZONE
BEGIN:VEVENT
DTSTART;TZID=America/New_York:20260211T093000
DTEND;TZID=America/New_York:20260211T110000
DTSTAMP:20260423T101850
CREATED:20260116T174926Z
LAST-MODIFIED:20260116T174926Z
UID:4652-1770802200-1770807600@overbrookchurch.org
SUMMARY:Mothersingers
DESCRIPTION:
URL:https://overbrookchurch.org/event/mothersingers-35/
END:VEVENT
BEGIN:VEVENT
DTSTART;TZID=America/New_York:20260211T100000
DTEND;TZID=America/New_York:20260211T110000
DTSTAMP:20260423T101850
CREATED:20260116T174926Z
LAST-MODIFIED:20260116T174926Z
UID:4653-1770804000-1770807600@overbrookchurch.org
SUMMARY:Staff Meeting
DESCRIPTION:
URL:https://overbrookchurch.org/event/staff-meeting-102/
END:VEVENT
BEGIN:VEVENT
DTSTART;TZID=America/New_York:20260211T183000
DTEND;TZID=America/New_York:20260211T203000
DTSTAMP:20260423T101850
CREATED:20260116T175127Z
LAST-MODIFIED:20260116T175127Z
UID:4654-1770834600-1770841800@overbrookchurch.org
SUMMARY:Social Justice Discussion Group
DESCRIPTION:
URL:https://overbrookchurch.org/event/social-justice-discussion-group-13/
END:VEVENT
END:VCALENDAR