BEGIN:VCALENDAR
VERSION:2.0
PRODID:-//Overbrook Presbyterian Church - ECPv6.9.0//NONSGML v1.0//EN
CALSCALE:GREGORIAN
METHOD:PUBLISH
X-ORIGINAL-URL:https://overbrookchurch.org
X-WR-CALDESC:Events for Overbrook Presbyterian Church
REFRESH-INTERVAL;VALUE=DURATION:PT1H
X-Robots-Tag:noindex
X-PUBLISHED-TTL:PT1H
BEGIN:VTIMEZONE
TZID:America/New_York
BEGIN:DAYLIGHT
TZOFFSETFROM:-0500
TZOFFSETTO:-0400
TZNAME:EDT
DTSTART:20260308T070000
END:DAYLIGHT
BEGIN:STANDARD
TZOFFSETFROM:-0400
TZOFFSETTO:-0500
TZNAME:EST
DTSTART:20261101T060000
END:STANDARD
END:VTIMEZONE
BEGIN:VEVENT
DTSTART;TZID=America/New_York:20260207T080000
DTEND;TZID=America/New_York:20260207T170000
DTSTAMP:20260423T103038
CREATED:20260116T174840Z
LAST-MODIFIED:20260116T180645Z
UID:4634-1770451200-1770483600@overbrookchurch.org
SUMMARY:Boy Scout Pinewood Derby
DESCRIPTION:
URL:https://overbrookchurch.org/event/boy-scout-derby/
END:VEVENT
BEGIN:VEVENT
DTSTART;TZID=America/New_York:20260207T090000
DTEND;TZID=America/New_York:20260207T110000
DTSTAMP:20260423T103038
CREATED:20260116T174840Z
LAST-MODIFIED:20260116T174840Z
UID:4635-1770454800-1770462000@overbrookchurch.org
SUMMARY:Alcoholics Anonymous Early Bird
DESCRIPTION:
URL:https://overbrookchurch.org/event/alcoholics-anonymous-early-bird-150/
END:VEVENT
BEGIN:VEVENT
DTSTART;TZID=America/New_York:20260207T090000
DTEND;TZID=America/New_York:20260207T110000
DTSTAMP:20260423T103038
CREATED:20260116T174841Z
LAST-MODIFIED:20260116T174841Z
UID:4636-1770454800-1770462000@overbrookchurch.org
SUMMARY:Alcoholics Anonymous HOW
DESCRIPTION:
URL:https://overbrookchurch.org/event/alcoholics-anonymous-how-146/
END:VEVENT
END:VCALENDAR