BEGIN:VCALENDAR
VERSION:2.0
PRODID:-//Overbrook Presbyterian Church - ECPv6.9.0//NONSGML v1.0//EN
CALSCALE:GREGORIAN
METHOD:PUBLISH
X-WR-CALNAME:Overbrook Presbyterian Church
X-ORIGINAL-URL:https://overbrookchurch.org
X-WR-CALDESC:Events for Overbrook Presbyterian Church
REFRESH-INTERVAL;VALUE=DURATION:PT1H
X-Robots-Tag:noindex
X-PUBLISHED-TTL:PT1H
BEGIN:VTIMEZONE
TZID:America/New_York
BEGIN:DAYLIGHT
TZOFFSETFROM:-0500
TZOFFSETTO:-0400
TZNAME:EDT
DTSTART:20260308T070000
END:DAYLIGHT
BEGIN:STANDARD
TZOFFSETFROM:-0400
TZOFFSETTO:-0500
TZNAME:EST
DTSTART:20261101T060000
END:STANDARD
END:VTIMEZONE
BEGIN:VEVENT
DTSTART;TZID=America/New_York:20260204T093000
DTEND;TZID=America/New_York:20260204T110000
DTSTAMP:20260423T101546
CREATED:20260116T174811Z
LAST-MODIFIED:20260116T174811Z
UID:4628-1770197400-1770202800@overbrookchurch.org
SUMMARY:Mothersingers
DESCRIPTION:
URL:https://overbrookchurch.org/event/mothersingers-34/
END:VEVENT
BEGIN:VEVENT
DTSTART;TZID=America/New_York:20260204T100000
DTEND;TZID=America/New_York:20260204T110000
DTSTAMP:20260423T101546
CREATED:20260116T174825Z
LAST-MODIFIED:20260116T174825Z
UID:4629-1770199200-1770202800@overbrookchurch.org
SUMMARY:Staff Meeting
DESCRIPTION:
URL:https://overbrookchurch.org/event/staff-meeting-101/
END:VEVENT
BEGIN:VEVENT
DTSTART;TZID=America/New_York:20260204T183000
DTEND;TZID=America/New_York:20260204T203000
DTSTAMP:20260423T101546
CREATED:20260116T174825Z
LAST-MODIFIED:20260116T174825Z
UID:4630-1770229800-1770237000@overbrookchurch.org
SUMMARY:Social Justice Discussion Group
DESCRIPTION:
URL:https://overbrookchurch.org/event/social-justice-discussion-group-12/
END:VEVENT
END:VCALENDAR