BEGIN:VCALENDAR
VERSION:2.0
PRODID:-//Overbrook Presbyterian Church - ECPv6.9.0//NONSGML v1.0//EN
CALSCALE:GREGORIAN
METHOD:PUBLISH
X-WR-CALNAME:Overbrook Presbyterian Church
X-ORIGINAL-URL:https://overbrookchurch.org
X-WR-CALDESC:Events for Overbrook Presbyterian Church
REFRESH-INTERVAL;VALUE=DURATION:PT1H
X-Robots-Tag:noindex
X-PUBLISHED-TTL:PT1H
BEGIN:VTIMEZONE
TZID:America/New_York
BEGIN:DAYLIGHT
TZOFFSETFROM:-0500
TZOFFSETTO:-0400
TZNAME:EDT
DTSTART:20260308T070000
END:DAYLIGHT
BEGIN:STANDARD
TZOFFSETFROM:-0400
TZOFFSETTO:-0500
TZNAME:EST
DTSTART:20261101T060000
END:STANDARD
END:VTIMEZONE
BEGIN:VEVENT
DTSTART;TZID=America/New_York:20260125T090000
DTEND;TZID=America/New_York:20260125T100000
DTSTAMP:20260425T092031
CREATED:20260109T165603Z
LAST-MODIFIED:20260109T165603Z
UID:4551-1769331600-1769335200@overbrookchurch.org
SUMMARY:Contemporary Worship Service
DESCRIPTION:
URL:https://overbrookchurch.org/event/contemporary-worship-service-95/
END:VEVENT
BEGIN:VEVENT
DTSTART;TZID=America/New_York:20260125T100000
DTEND;TZID=America/New_York:20260125T110000
DTSTAMP:20260425T092031
CREATED:20260109T165604Z
LAST-MODIFIED:20260109T165604Z
UID:4552-1769335200-1769338800@overbrookchurch.org
SUMMARY:Fellowship Hour
DESCRIPTION:
URL:https://overbrookchurch.org/event/fellowship-hour-90/
END:VEVENT
BEGIN:VEVENT
DTSTART;TZID=America/New_York:20260125T110000
DTEND;TZID=America/New_York:20260125T120000
DTSTAMP:20260425T092031
CREATED:20260109T165604Z
LAST-MODIFIED:20260109T165604Z
UID:4553-1769338800-1769342400@overbrookchurch.org
SUMMARY:Traditional Worship Service
DESCRIPTION:
URL:https://overbrookchurch.org/event/traditional-worship-service-83/
END:VEVENT
BEGIN:VEVENT
DTSTART;TZID=America/New_York:20260125T121500
DTEND;TZID=America/New_York:20260125T131500
DTSTAMP:20260425T092031
CREATED:20260109T165605Z
LAST-MODIFIED:20260109T165605Z
UID:4554-1769343300-1769346900@overbrookchurch.org
SUMMARY:Chancel Chimes
DESCRIPTION:
URL:https://overbrookchurch.org/event/chancel-chimes-41/
END:VEVENT
BEGIN:VEVENT
DTSTART;TZID=America/New_York:20260125T173000
DTEND;TZID=America/New_York:20260125T193000
DTSTAMP:20260425T092031
CREATED:20260109T165618Z
LAST-MODIFIED:20260109T165618Z
UID:4555-1769362200-1769369400@overbrookchurch.org
SUMMARY:Club 35 (Third-Fifth Grade)
DESCRIPTION:
URL:https://overbrookchurch.org/event/club-35-third-fifth-grade/
END:VEVENT
BEGIN:VEVENT
DTSTART;TZID=America/New_York:20260125T173000
DTEND;TZID=America/New_York:20260125T193000
DTSTAMP:20260425T092031
CREATED:20260109T165618Z
LAST-MODIFIED:20260109T165618Z
UID:4556-1769362200-1769369400@overbrookchurch.org
SUMMARY:Youth Fellowship
DESCRIPTION:
URL:https://overbrookchurch.org/event/youth-fellowship-53/
END:VEVENT
END:VCALENDAR