BEGIN:VCALENDAR
VERSION:2.0
PRODID:-//Overbrook Presbyterian Church - ECPv6.9.0//NONSGML v1.0//EN
CALSCALE:GREGORIAN
METHOD:PUBLISH
X-ORIGINAL-URL:https://overbrookchurch.org
X-WR-CALDESC:Events for Overbrook Presbyterian Church
REFRESH-INTERVAL;VALUE=DURATION:PT1H
X-Robots-Tag:noindex
X-PUBLISHED-TTL:PT1H
BEGIN:VTIMEZONE
TZID:America/New_York
BEGIN:DAYLIGHT
TZOFFSETFROM:-0500
TZOFFSETTO:-0400
TZNAME:EDT
DTSTART:20260308T070000
END:DAYLIGHT
BEGIN:STANDARD
TZOFFSETFROM:-0400
TZOFFSETTO:-0500
TZNAME:EST
DTSTART:20261101T060000
END:STANDARD
END:VTIMEZONE
BEGIN:VEVENT
DTSTART;TZID=America/New_York:20260106T103000
DTEND;TZID=America/New_York:20260106T113000
DTSTAMP:20260425T103746
CREATED:20260109T165348Z
LAST-MODIFIED:20260109T165348Z
UID:4505-1767695400-1767699000@overbrookchurch.org
SUMMARY:Cliff Gibbs Memorial Service
DESCRIPTION:
URL:https://overbrookchurch.org/event/cliff-gibbs-memorial-service/
END:VEVENT
BEGIN:VEVENT
DTSTART;TZID=America/New_York:20260106T113000
DTEND;TZID=America/New_York:20260106T133000
DTSTAMP:20260425T103746
CREATED:20260109T165348Z
LAST-MODIFIED:20260109T165348Z
UID:4506-1767699000-1767706200@overbrookchurch.org
SUMMARY:Cliff Gibbs Memorial Reception
DESCRIPTION:
URL:https://overbrookchurch.org/event/cliff-gibbs-memorial-reception/
END:VEVENT
BEGIN:VEVENT
DTSTART;TZID=America/New_York:20260106T190000
DTEND;TZID=America/New_York:20260106T203000
DTSTAMP:20260425T103746
CREATED:20260109T165348Z
LAST-MODIFIED:20260109T165348Z
UID:4508-1767726000-1767731400@overbrookchurch.org
SUMMARY:John Beltz Retreat Center  Team
DESCRIPTION:
URL:https://overbrookchurch.org/event/john-beltz-retreat-center-team-25/
END:VEVENT
BEGIN:VEVENT
DTSTART;TZID=America/New_York:20260106T190000
DTEND;TZID=America/New_York:20260106T210000
DTSTAMP:20260425T103746
CREATED:20260109T165348Z
LAST-MODIFIED:20260109T165348Z
UID:4507-1767726000-1767733200@overbrookchurch.org
SUMMARY:Commission for Member Enrichment
DESCRIPTION:
URL:https://overbrookchurch.org/event/commission-for-member-enrichment-25/
END:VEVENT
END:VCALENDAR